| PWMEnrich 4.12.0 Robert Stojnic
 
 | Snapshot Date: 2017-08-15 17:17:57 -0400 (Tue, 15 Aug 2017) |  | URL: https://hedgehog.fhcrc.org/bioconductor/branches/RELEASE_3_5/madman/Rpacks/PWMEnrich |  | Last Changed Rev: 129126 / Revision: 131943 |  | Last Changed Date: 2017-04-24 15:25:24 -0400 (Mon, 24 Apr 2017) | 
 | malbec2 | Linux (Ubuntu 16.04.1 LTS) / x86_64 | OK | OK | OK |  |  | 
| tokay2 | Windows Server 2012 R2 Standard / x64 | [ OK ] | OK | OK | OK |  | 
| veracruz2 | OS X 10.11.6 El Capitan / x86_64 | OK | OK | OK | OK |  | 
##############################################################################
##############################################################################
###
### Running command:
###
###   rm -rf PWMEnrich.buildbin-libdir && mkdir PWMEnrich.buildbin-libdir  && C:\cygwin\bin\curl.exe -O http://172.29.0.4/BBS/3.5/bioc/src/contrib/PWMEnrich_4.12.0.tar.gz && C:\Users\biocbuild\bbs-3.5-bioc\R\bin\R.exe CMD INSTALL --build --library=PWMEnrich.buildbin-libdir --merge-multiarch PWMEnrich_4.12.0.tar.gz && C:\Users\biocbuild\bbs-3.5-bioc\R\bin\R.exe CMD INSTALL PWMEnrich_4.12.0.zip  && rm PWMEnrich_4.12.0.tar.gz PWMEnrich_4.12.0.zip
###
##############################################################################
##############################################################################
  % Total    % Received % Xferd  Average Speed   Time    Time     Time  Current
                                 Dload  Upload   Total   Spent    Left  Speed
  0     0    0     0    0     0      0      0 --:--:-- --:--:-- --:--:--     0
100 3482k  100 3482k    0     0  28.9M      0 --:--:-- --:--:-- --:--:-- 29.3M
install for i386
* installing *source* package 'PWMEnrich' ...
** R
** inst
** preparing package for lazy loading
** help
*** installing help indices
** building package indices
** installing vignettes
** testing if installed package can be loaded
install for x64
* installing *source* package 'PWMEnrich' ...
** testing if installed package can be loaded
* MD5 sums
packaged installation of 'PWMEnrich' as PWMEnrich_4.12.0.zip
* DONE (PWMEnrich)
* installing to library 'C:/Users/biocbuild/bbs-3.5-bioc/R/library'
package 'PWMEnrich' successfully unpacked and MD5 sums checked