IRanges 2.10.2 Bioconductor Package Maintainer
 | Snapshot Date: 2017-08-15 17:17:57 -0400 (Tue, 15 Aug 2017) |  | URL: https://hedgehog.fhcrc.org/bioconductor/branches/RELEASE_3_5/madman/Rpacks/IRanges |  | Last Changed Rev: 129836 / Revision: 131943 |  | Last Changed Date: 2017-05-24 14:22:03 -0400 (Wed, 24 May 2017) |  
  | malbec2  | Linux (Ubuntu 16.04.1 LTS) / x86_64  |  OK  |  OK  |  WARNINGS  |  |   | 
| tokay2  | Windows Server 2012 R2 Standard / x64  |  OK  |  OK  |  WARNINGS  |  OK  |   | 
| veracruz2  | OS X 10.11.6 El Capitan / x86_64  | [ OK ] |  OK  |  WARNINGS  |  OK  |   | 
##############################################################################
##############################################################################
###
### Running command:
###
###   /Library/Frameworks/R.framework/Versions/Current/Resources/bin/R CMD INSTALL IRanges
###
##############################################################################
##############################################################################
* installing to library ‘/Library/Frameworks/R.framework/Versions/3.4/Resources/library’
* installing *source* package ‘IRanges’ ...
** libs
clang -I/Library/Frameworks/R.framework/Resources/include -DNDEBUG  -I"/Library/Frameworks/R.framework/Versions/3.4/Resources/library/S4Vectors/include" -I/usr/local/include   -fPIC  -Wall -g -O2  -c CompressedAtomicList_utils.c -o CompressedAtomicList_utils.o
clang -I/Library/Frameworks/R.framework/Resources/include -DNDEBUG  -I"/Library/Frameworks/R.framework/Versions/3.4/Resources/library/S4Vectors/include" -I/usr/local/include   -fPIC  -Wall -g -O2  -c CompressedIRangesList_class.c -o CompressedIRangesList_class.o
clang -I/Library/Frameworks/R.framework/Resources/include -DNDEBUG  -I"/Library/Frameworks/R.framework/Versions/3.4/Resources/library/S4Vectors/include" -I/usr/local/include   -fPIC  -Wall -g -O2  -c CompressedList_class.c -o CompressedList_class.o
clang -I/Library/Frameworks/R.framework/Resources/include -DNDEBUG  -I"/Library/Frameworks/R.framework/Versions/3.4/Resources/library/S4Vectors/include" -I/usr/local/include   -fPIC  -Wall -g -O2  -c Grouping_class.c -o Grouping_class.o
clang -I/Library/Frameworks/R.framework/Resources/include -DNDEBUG  -I"/Library/Frameworks/R.framework/Versions/3.4/Resources/library/S4Vectors/include" -I/usr/local/include   -fPIC  -Wall -g -O2  -c IRanges_class.c -o IRanges_class.o
clang -I/Library/Frameworks/R.framework/Resources/include -DNDEBUG  -I"/Library/Frameworks/R.framework/Versions/3.4/Resources/library/S4Vectors/include" -I/usr/local/include   -fPIC  -Wall -g -O2  -c IRanges_constructor.c -o IRanges_constructor.o
clang -I/Library/Frameworks/R.framework/Resources/include -DNDEBUG  -I"/Library/Frameworks/R.framework/Versions/3.4/Resources/library/S4Vectors/include" -I/usr/local/include   -fPIC  -Wall -g -O2  -c NCList.c -o NCList.o
NCList.c:202:22: warning: unused function 'next_top_down' [-Wunused-function]
static const NCList *next_top_down(const NCList *nclist)
                     ^
NCList.c:1163:13: warning: function 'NCList_get_y_overlaps_rec' is not needed and will not be emitted [-Wunneeded-internal-declaration]
static void NCList_get_y_overlaps_rec(const NCList *x_nclist,
            ^
2 warnings generated.
clang -I/Library/Frameworks/R.framework/Resources/include -DNDEBUG  -I"/Library/Frameworks/R.framework/Versions/3.4/Resources/library/S4Vectors/include" -I/usr/local/include   -fPIC  -Wall -g -O2  -c R_init_IRanges.c -o R_init_IRanges.o
clang -I/Library/Frameworks/R.framework/Resources/include -DNDEBUG  -I"/Library/Frameworks/R.framework/Versions/3.4/Resources/library/S4Vectors/include" -I/usr/local/include   -fPIC  -Wall -g -O2  -c Ranges_class.c -o Ranges_class.o
clang -I/Library/Frameworks/R.framework/Resources/include -DNDEBUG  -I"/Library/Frameworks/R.framework/Versions/3.4/Resources/library/S4Vectors/include" -I/usr/local/include   -fPIC  -Wall -g -O2  -c Ranges_comparison.c -o Ranges_comparison.o
clang -I/Library/Frameworks/R.framework/Resources/include -DNDEBUG  -I"/Library/Frameworks/R.framework/Versions/3.4/Resources/library/S4Vectors/include" -I/usr/local/include   -fPIC  -Wall -g -O2  -c RleViews_utils.c -o RleViews_utils.o
clang -I/Library/Frameworks/R.framework/Resources/include -DNDEBUG  -I"/Library/Frameworks/R.framework/Versions/3.4/Resources/library/S4Vectors/include" -I/usr/local/include   -fPIC  -Wall -g -O2  -c S4Vectors_stubs.c -o S4Vectors_stubs.o
clang -I/Library/Frameworks/R.framework/Resources/include -DNDEBUG  -I"/Library/Frameworks/R.framework/Versions/3.4/Resources/library/S4Vectors/include" -I/usr/local/include   -fPIC  -Wall -g -O2  -c SimpleRangesList_class.c -o SimpleRangesList_class.o
clang -I/Library/Frameworks/R.framework/Resources/include -DNDEBUG  -I"/Library/Frameworks/R.framework/Versions/3.4/Resources/library/S4Vectors/include" -I/usr/local/include   -fPIC  -Wall -g -O2  -c coverage_methods.c -o coverage_methods.o
clang -I/Library/Frameworks/R.framework/Resources/include -DNDEBUG  -I"/Library/Frameworks/R.framework/Versions/3.4/Resources/library/S4Vectors/include" -I/usr/local/include   -fPIC  -Wall -g -O2  -c inter_range_methods.c -o inter_range_methods.o
clang -dynamiclib -Wl,-headerpad_max_install_names -undefined dynamic_lookup -single_module -multiply_defined suppress -L/Library/Frameworks/R.framework/Resources/lib -L/usr/local/lib -o IRanges.so CompressedAtomicList_utils.o CompressedIRangesList_class.o CompressedList_class.o Grouping_class.o IRanges_class.o IRanges_constructor.o NCList.o R_init_IRanges.o Ranges_class.o Ranges_comparison.o RleViews_utils.o S4Vectors_stubs.o SimpleRangesList_class.o coverage_methods.o inter_range_methods.o -F/Library/Frameworks/R.framework/.. -framework R -Wl,-framework -Wl,CoreFoundation
installing to /Library/Frameworks/R.framework/Versions/3.4/Resources/library/IRanges/libs
** R
** inst
** preparing package for lazy loading
Creating a generic function for ‘drop’ from package ‘base’ in package ‘IRanges’
Creating a generic function for ‘ifelse’ from package ‘base’ in package ‘IRanges’
Creating a generic function for ‘smoothEnds’ from package ‘stats’ in package ‘IRanges’
Creating a generic function for ‘runmed’ from package ‘stats’ in package ‘IRanges’
Creating a generic function for ‘chartr’ from package ‘base’ in package ‘IRanges’
Creating a generic function for ‘tolower’ from package ‘base’ in package ‘IRanges’
Creating a generic function for ‘toupper’ from package ‘base’ in package ‘IRanges’
Creating a generic function for ‘sub’ from package ‘base’ in package ‘IRanges’
Creating a generic function for ‘gsub’ from package ‘base’ in package ‘IRanges’
** help
*** installing help indices
** building package indices
** installing vignettes
** testing if installed package can be loaded
* DONE (IRanges)