| Heatplus 2.22.0 Alexander Ploner
 
 | Snapshot Date: 2017-08-15 17:17:57 -0400 (Tue, 15 Aug 2017) |  | URL: https://hedgehog.fhcrc.org/bioconductor/branches/RELEASE_3_5/madman/Rpacks/Heatplus |  | Last Changed Rev: 129126 / Revision: 131943 |  | Last Changed Date: 2017-04-24 15:25:24 -0400 (Mon, 24 Apr 2017) | 
 | malbec2 | Linux (Ubuntu 16.04.1 LTS) / x86_64 | OK | OK | OK |  |  | 
| tokay2 | Windows Server 2012 R2 Standard / x64 | OK | OK | OK | [ OK ] |  | 
| veracruz2 | OS X 10.11.6 El Capitan / x86_64 | OK | OK | OK | OK |  | 
##############################################################################
##############################################################################
###
### Running command:
###
###   cd Heatplus.buildbin-libdir/Heatplus && zip -r ../../Heatplus_2.22.0.zip . & cd ../..
###
##############################################################################
##############################################################################
  adding: DESCRIPTION (264 bytes security) (deflated 41%)
  adding: doc/ (304 bytes security) (stored 0%)
  adding: doc/annHeatmap.pdf (264 bytes security) (deflated 12%)
  adding: doc/annHeatmap.R (264 bytes security) (deflated 78%)
  adding: doc/annHeatmap.Rnw (264 bytes security) (deflated 67%)
  adding: doc/annHeatmapCommentedSource.pdf (264 bytes security) (deflated 9%)
  adding: doc/annHeatmapCommentedSource.R (264 bytes security) (deflated 72%)
  adding: doc/annHeatmapCommentedSource.Rnw (264 bytes security) (deflated 67%)
  adding: doc/index.html (264 bytes security) (deflated 72%)
  adding: doc/oldHeatplus.pdf (264 bytes security) (deflated 6%)
  adding: doc/oldHeatplus.R (264 bytes security) (deflated 74%)
  adding: doc/oldHeatplus.Rnw (264 bytes security) (deflated 60%)
  adding: help/ (304 bytes security) (stored 0%)
  adding: help/aliases.rds (264 bytes security) (stored 0%)
  adding: help/AnIndex (264 bytes security) (deflated 61%)
  adding: help/Heatplus.rdb (264 bytes security) (deflated 1%)
  adding: help/Heatplus.rdx (264 bytes security) (stored 0%)
  adding: help/paths.rds (264 bytes security) (stored 0%)
  adding: html/ (304 bytes security) (stored 0%)
  adding: html/00Index.html (264 bytes security) (deflated 72%)
  adding: html/R.css (264 bytes security) (deflated 75%)
  adding: INDEX (264 bytes security) (deflated 60%)
  adding: MD5 (264 bytes security) (deflated 45%)
  adding: Meta/ (304 bytes security) (stored 0%)
  adding: Meta/features.rds (264 bytes security) (stored 0%)
  adding: Meta/hsearch.rds (264 bytes security) (stored 0%)
  adding: Meta/links.rds (264 bytes security) (stored 0%)
  adding: Meta/nsInfo.rds (264 bytes security) (stored 0%)
  adding: Meta/package.rds (264 bytes security) (stored 0%)
  adding: Meta/Rd.rds (264 bytes security) (stored 0%)
  adding: Meta/vignette.rds (264 bytes security) (stored 0%)
  adding: NAMESPACE (264 bytes security) (deflated 50%)
  adding: NEWS (264 bytes security) (deflated 50%)
  adding: R/ (304 bytes security) (stored 0%)
  adding: R/Heatplus (264 bytes security) (deflated 41%)
  adding: R/Heatplus.rdb (264 bytes security) (deflated 2%)
  adding: R/Heatplus.rdx (264 bytes security) (stored 0%)