GenomicRanges 1.28.4 Bioconductor Package Maintainer
 | Snapshot Date: 2017-08-15 17:17:57 -0400 (Tue, 15 Aug 2017) |  | URL: https://hedgehog.fhcrc.org/bioconductor/branches/RELEASE_3_5/madman/Rpacks/GenomicRanges |  | Last Changed Rev: 131156 / Revision: 131943 |  | Last Changed Date: 2017-07-12 18:06:20 -0400 (Wed, 12 Jul 2017) |  
  | malbec2  | Linux (Ubuntu 16.04.1 LTS) / x86_64  | [ OK ] |  OK  |  WARNINGS  |  |   | 
| tokay2  | Windows Server 2012 R2 Standard / x64  |  OK  |  OK  |  WARNINGS  |  OK  |   | 
| veracruz2  | OS X 10.11.6 El Capitan / x86_64  |  OK  |  OK  |  WARNINGS  |  OK  |   | 
##############################################################################
##############################################################################
###
### Running command:
###
###   /home/biocbuild/bbs-3.5-bioc/R/bin/R CMD INSTALL GenomicRanges
###
##############################################################################
##############################################################################
* installing to library ‘/home/biocbuild/bbs-3.5-bioc/R/library’
* installing *source* package ‘GenomicRanges’ ...
** libs
gcc -I/home/biocbuild/bbs-3.5-bioc/R/include -DNDEBUG  -I"/home/biocbuild/bbs-3.5-bioc/R/library/S4Vectors/include" -I"/home/biocbuild/bbs-3.5-bioc/R/library/IRanges/include" -I/usr/local/include   -fpic  -g -O2  -Wall -c IRanges_stubs.c -o IRanges_stubs.o
gcc -I/home/biocbuild/bbs-3.5-bioc/R/include -DNDEBUG  -I"/home/biocbuild/bbs-3.5-bioc/R/library/S4Vectors/include" -I"/home/biocbuild/bbs-3.5-bioc/R/library/IRanges/include" -I/usr/local/include   -fpic  -g -O2  -Wall -c R_init_GenomicRanges.c -o R_init_GenomicRanges.o
gcc -I/home/biocbuild/bbs-3.5-bioc/R/include -DNDEBUG  -I"/home/biocbuild/bbs-3.5-bioc/R/library/S4Vectors/include" -I"/home/biocbuild/bbs-3.5-bioc/R/library/IRanges/include" -I/usr/local/include   -fpic  -g -O2  -Wall -c S4Vectors_stubs.c -o S4Vectors_stubs.o
gcc -I/home/biocbuild/bbs-3.5-bioc/R/include -DNDEBUG  -I"/home/biocbuild/bbs-3.5-bioc/R/library/S4Vectors/include" -I"/home/biocbuild/bbs-3.5-bioc/R/library/IRanges/include" -I/usr/local/include   -fpic  -g -O2  -Wall -c transcript_utils.c -o transcript_utils.o
transcript_utils.c: In function ‘tlocs2rlocs’:
transcript_utils.c:143:38: warning: ‘end’ may be used uninitialized in this function [-Wmaybe-uninitialized]
  return on_minus_strand ? end - tloc : start + tloc;
                                      ^
transcript_utils.c:120:24: note: ‘end’ was declared here
  int nexons, j, start, end, width;
                        ^
transcript_utils.c:143:38: warning: ‘start’ may be used uninitialized in this function [-Wmaybe-uninitialized]
  return on_minus_strand ? end - tloc : start + tloc;
                                      ^
transcript_utils.c:120:17: note: ‘start’ was declared here
  int nexons, j, start, end, width;
                 ^
gcc -shared -L/home/biocbuild/bbs-3.5-bioc/R/lib -L/usr/local/lib -o GenomicRanges.so IRanges_stubs.o R_init_GenomicRanges.o S4Vectors_stubs.o transcript_utils.o -L/home/biocbuild/bbs-3.5-bioc/R/lib -lR
installing to /home/biocbuild/bbs-3.5-bioc/R/library/GenomicRanges/libs
** R
** inst
** preparing package for lazy loading
** help
*** installing help indices
** building package indices
** installing vignettes
** testing if installed package can be loaded
* DONE (GenomicRanges)