DelayedArray 0.1.7 Hervé Pagès
Snapshot Date: 2017-03-03 17:15:47 -0500 (Fri, 03 Mar 2017) | URL: https://hedgehog.fhcrc.org/bioconductor/trunk/madman/Rpacks/DelayedArray | Last Changed Rev: 126778 / Revision: 127142 | Last Changed Date: 2017-02-16 14:59:40 -0500 (Thu, 16 Feb 2017) |
| malbec2 | Linux (Ubuntu 16.04.1 LTS) / x86_64 | OK | OK | WARNINGS | | |
tokay2 | Windows Server 2012 R2 Standard / x64 | OK | OK | WARNINGS | OK | |
toluca2 | Mac OS X Mavericks (10.9.5) / x86_64 | OK | OK | WARNINGS | OK | |
oaxaca | Mac OS X Mavericks (10.9.5) / x86_64 | [ OK ] | OK | WARNINGS | OK | |
##############################################################################
##############################################################################
###
### Running command:
###
### /Library/Frameworks/R.framework/Versions/Current/Resources/bin/R CMD INSTALL DelayedArray
###
##############################################################################
##############################################################################
* installing to library ‘/Library/Frameworks/R.framework/Versions/3.4/Resources/library’
* installing *source* package ‘DelayedArray’ ...
** R
** inst
** preparing package for lazy loading
Creating a new generic function for ‘apply’ in package ‘DelayedArray’
Creating a generic function for ‘dlogis’ from package ‘stats’ in package ‘DelayedArray’
Creating a generic function for ‘plogis’ from package ‘stats’ in package ‘DelayedArray’
Creating a generic function for ‘qlogis’ from package ‘stats’ in package ‘DelayedArray’
Creating a new generic function for ‘rowMaxs’ in package ‘DelayedArray’
Creating a new generic function for ‘colMaxs’ in package ‘DelayedArray’
** help
*** installing help indices
** building package indices
** testing if installed package can be loaded
* DONE (DelayedArray)