##############################################################################
##############################################################################
###
### Running command:
###
### cd AIMS.buildbin-libdir/AIMS && zip -r ../../AIMS_1.8.0.zip . & cd ../..
###
##############################################################################
##############################################################################
adding: data/ (304 bytes security) (stored 0%)
adding: data/Rdata.rdb (264 bytes security) (deflated 0%)
adding: data/Rdata.rds (264 bytes security) (stored 0%)
adding: data/Rdata.rdx (264 bytes security) (stored 0%)
adding: DESCRIPTION (264 bytes security) (deflated 39%)
adding: doc/ (304 bytes security) (stored 0%)
adding: doc/AIMS.pdf (264 bytes security) (deflated 9%)
adding: doc/AIMS.R (264 bytes security) (deflated 76%)
adding: doc/AIMS.Rnw (264 bytes security) (deflated 63%)
adding: doc/index.html (264 bytes security) (deflated 57%)
adding: help/ (304 bytes security) (stored 0%)
adding: help/AIMS.rdb (264 bytes security) (stored 0%)
adding: help/AIMS.rdx (264 bytes security) (stored 0%)
adding: help/aliases.rds (264 bytes security) (stored 0%)
adding: help/AnIndex (264 bytes security) (deflated 35%)
adding: help/paths.rds (264 bytes security) (stored 0%)
adding: html/ (304 bytes security) (stored 0%)
adding: html/00Index.html (264 bytes security) (deflated 54%)
adding: html/R.css (264 bytes security) (deflated 75%)
adding: INDEX (264 bytes security) (deflated 48%)
adding: MD5 (264 bytes security) (deflated 42%)
adding: Meta/ (304 bytes security) (stored 0%)
adding: Meta/data.rds (264 bytes security) (stored 0%)
adding: Meta/features.rds (264 bytes security) (stored 0%)
adding: Meta/hsearch.rds (264 bytes security) (stored 0%)
adding: Meta/links.rds (264 bytes security) (stored 0%)
adding: Meta/nsInfo.rds (264 bytes security) (stored 0%)
adding: Meta/package.rds (264 bytes security) (stored 0%)
adding: Meta/Rd.rds (264 bytes security) (stored 0%)
adding: Meta/vignette.rds (264 bytes security) (stored 0%)
adding: NAMESPACE (264 bytes security) (deflated 12%)
adding: R/ (304 bytes security) (stored 0%)
adding: R/AIMS (264 bytes security) (deflated 41%)
adding: R/AIMS.rdb (264 bytes security) (deflated 4%)
adding: R/AIMS.rdx (264 bytes security) (stored 0%)
adding: unitTests/ (304 bytes security) (stored 0%)
adding: unitTests/test_applyAIMS.R (264 bytes security) (deflated 79%)