| EGSEAdata 1.1.0 Monther Alhamdoosh
 
 | Snapshot Date: 2016-05-28 09:20:19 -0700 (Sat, 28 May 2016) |  | URL: https://hedgehog.fhcrc.org/bioc-data/trunk/experiment/pkgs/EGSEAdata |  | Last Changed Rev: 3763 / Revision: 3781 |  | Last Changed Date: 2016-05-03 14:48:02 -0700 (Tue, 03 May 2016) | 
 | zin1 | Linux (Ubuntu 16.04 LTS) / x86_64 | OK | OK | OK |  |  | 
| moscato1 | Windows Server 2008 R2 Standard (64-bit) / x64 | OK | OK | OK | [ OK ] |  | 
##############################################################################
##############################################################################
###
### Running command:
###
###   cd EGSEAdata.buildbin-libdir/EGSEAdata && zip -r ../../EGSEAdata_1.1.0.zip . & cd ../..
###
##############################################################################
##############################################################################
Scanning files 
  adding: data/ (208 bytes security) (stored 0%)
  adding: data/datalist (188 bytes security) (deflated 58%)
  adding: data/genesetdb.human.rda (188 bytes security) (deflated 0%)
  adding: data/genesetdb.mouse.rda (188 bytes security) (deflated 0%)
  adding: data/genesetdb.rat.rda (188 bytes security) (deflated 0%)
  adding: data/il13.data.cnt.rda (188 bytes security) (deflated 0%)
  adding: data/il13.data.rda (188 bytes security) (deflated 0%)
  adding: data/kegg.pathways.rda (188 bytes security) (deflated 0%)
  adding: data/mam.data.rda (188 bytes security) (deflated 0%)
  adding: data/msigdb.mouse_c2_v5.rdata (188 bytes security) (deflated 0%)
  adding: data/msigdb.mouse_c3_v5.rdata (188 bytes security) (deflated 0%)
  adding: data/msigdb.mouse_c4_v5.rdata (188 bytes security) (deflated 0%)
  adding: data/msigdb.mouse_c5_v4.rdata (188 bytes security) (deflated 0%)
  adding: data/msigdb.mouse_c6_v5.rdata (188 bytes security) (deflated 0%)
  adding: data/msigdb.mouse_c7_v5.rdata (188 bytes security) (deflated 0%)
  adding: data/msigdb.mouse_h_v5.rdata (188 bytes security) (stored 0%)
  adding: data/msigdb_v5.rda (188 bytes security) (deflated 0%)
  adding: DESCRIPTION (188 bytes security) (deflated 35%)
  adding: help/ (208 bytes security) (stored 0%)
  adding: help/aliases.rds (188 bytes security) (stored 0%)
  adding: help/AnIndex (188 bytes security) (deflated 57%)
  adding: help/EGSEAdata.rdb (188 bytes security) (deflated 8%)
  adding: help/EGSEAdata.rdx (188 bytes security) (stored 0%)
  adding: help/paths.rds (188 bytes security) (stored 0%)
  adding: html/ (208 bytes security) (stored 0%)
  adding: html/00Index.html (188 bytes security) (deflated 73%)
  adding: html/R.css (188 bytes security) (deflated 75%)
  adding: INDEX (188 bytes security) (deflated 72%)
  adding: MD5 (188 bytes security) (deflated 48%)
  adding: Meta/ (208 bytes security) (stored 0%)
  adding: Meta/data.rds (188 bytes security) (stored 0%)
  adding: Meta/hsearch.rds (188 bytes security) (stored 0%)
  adding: Meta/links.rds (188 bytes security) (stored 0%)
  adding: Meta/nsInfo.rds (188 bytes security) (stored 0%)
  adding: Meta/package.rds (188 bytes security) (stored 0%)
  adding: Meta/Rd.rds (188 bytes security) (stored 0%)
  adding: NAMESPACE (188 bytes security) (stored 0%)
  adding: R/ (208 bytes security) (stored 0%)
  adding: R/EGSEAdata (188 bytes security) (deflated 41%)
  adding: R/EGSEAdata.rdb (188 bytes security) (deflated 30%)
  adding: R/EGSEAdata.rdx (188 bytes security) (stored 0%)