xcms 1.49.6 Steffen Neumann
 | Snapshot Date: 2016-09-19 19:15:14 -0700 (Mon, 19 Sep 2016) |  | URL: https://hedgehog.fhcrc.org/bioconductor/trunk/madman/Rpacks/xcms |  | Last Changed Rev: 120725 / Revision: 121152 |  | Last Changed Date: 2016-09-05 04:13:31 -0700 (Mon, 05 Sep 2016) |  
  | zin1  | Linux (Ubuntu 16.04 LTS) / x86_64  |  OK  | [ OK ] |  WARNINGS  |  |   | 
| moscato1  | Windows Server 2008 R2 Standard (64-bit) / x64  |  OK  |  OK  |  WARNINGS  |  OK  |   | 
| morelia  | Mac OS X Mavericks (10.9.5) / x86_64  |  OK  |  OK  |  WARNINGS  |  OK  |   | 
##############################################################################
##############################################################################
###
### Running command:
###
###   /home/biocbuild/bbs-3.4-bioc/R/bin/R CMD build --keep-empty-dirs --no-resave-data xcms
###
##############################################################################
##############################################################################
* checking for file ‘xcms/DESCRIPTION’ ... OK
* preparing ‘xcms’:
* checking DESCRIPTION meta-information ... OK
* cleaning src
* installing the package to build vignettes
* creating vignettes ... OK
* cleaning src
* checking for LF line-endings in source and make files
* checking for empty or unneeded directories
WARNING: directory ‘xcms/R/unix’ is empty
WARNING: directory ‘xcms/R/windows’ is empty
WARNING: directory ‘xcms/src/win/i386’ is empty
WARNING: directory ‘xcms/src/win/x64’ is empty
* building ‘xcms_1.49.6.tar.gz’