| wateRmelon 1.18.0 Leo
 
 | Snapshot Date: 2017-04-14 17:17:13 -0400 (Fri, 14 Apr 2017) |  | URL: https://hedgehog.fhcrc.org/bioconductor/branches/RELEASE_3_4/madman/Rpacks/wateRmelon |  | Last Changed Rev: 122710 / Revision: 128728 |  | Last Changed Date: 2016-10-17 14:45:06 -0400 (Mon, 17 Oct 2016) | 
 | malbec1 | Linux (Ubuntu 16.04.1 LTS) / x86_64 | OK | OK | OK |  |  | 
| tokay1 | Windows Server 2012 R2 Standard / x64 | OK | OK | OK | [ OK ] |  | 
| morelia | Mac OS X Mavericks (10.9.5) / x86_64 | OK | OK | OK | OK |  | 
##############################################################################
##############################################################################
###
### Running command:
###
###   cd wateRmelon.buildbin-libdir/wateRmelon && zip -r ../../wateRmelon_1.18.0.zip . & cd ../..
###
##############################################################################
##############################################################################
  adding: CITATION (284 bytes security) (deflated 30%)
  adding: data/ (324 bytes security) (stored 0%)
  adding: data/coef.rda (284 bytes security) (stored 0%)
  adding: data/datalist (284 bytes security) (deflated 8%)
  adding: data/epic.controls.rda (284 bytes security) (deflated 0%)
  adding: data/epic.ordering.rda (284 bytes security) (deflated 0%)
  adding: data/iDMR.rda (284 bytes security) (stored 0%)
  adding: data/melon.rda (284 bytes security) (deflated 0%)
  adding: DESCRIPTION (284 bytes security) (deflated 49%)
  adding: doc/ (324 bytes security) (stored 0%)
  adding: doc/index.html (284 bytes security) (deflated 59%)
  adding: doc/wateRmelon.pdf (284 bytes security) (deflated 1%)
  adding: doc/wateRmelon.R (284 bytes security) (deflated 76%)
  adding: doc/wateRmelon.Rnw (284 bytes security) (deflated 59%)
  adding: help/ (324 bytes security) (stored 0%)
  adding: help/aliases.rds (284 bytes security) (stored 0%)
  adding: help/AnIndex (284 bytes security) (deflated 80%)
  adding: help/paths.rds (284 bytes security) (stored 0%)
  adding: help/wateRmelon.rdb (284 bytes security) (deflated 1%)
  adding: help/wateRmelon.rdx (284 bytes security) (stored 0%)
  adding: html/ (324 bytes security) (stored 0%)
  adding: html/00Index.html (284 bytes security) (deflated 89%)
  adding: html/R.css (284 bytes security) (deflated 75%)
  adding: INDEX (284 bytes security) (deflated 73%)
  adding: MD5 (284 bytes security) (deflated 43%)
  adding: Meta/ (324 bytes security) (stored 0%)
  adding: Meta/data.rds (284 bytes security) (stored 0%)
  adding: Meta/hsearch.rds (284 bytes security) (stored 0%)
  adding: Meta/links.rds (284 bytes security) (stored 0%)
  adding: Meta/nsInfo.rds (284 bytes security) (stored 0%)
  adding: Meta/package.rds (284 bytes security) (stored 0%)
  adding: Meta/Rd.rds (284 bytes security) (stored 0%)
  adding: Meta/vignette.rds (284 bytes security) (stored 0%)
  adding: NAMESPACE (284 bytes security) (deflated 41%)
  adding: NEWS (284 bytes security) (deflated 48%)
  adding: R/ (324 bytes security) (stored 0%)
  adding: R/wateRmelon (284 bytes security) (deflated 41%)
  adding: R/wateRmelon.rdb (284 bytes security) (deflated 35%)
  adding: R/wateRmelon.rdx (284 bytes security) (stored 0%)