| tkWidgets 1.52.0 J. Zhang
 
 | Snapshot Date: 2017-04-14 17:17:13 -0400 (Fri, 14 Apr 2017) |  | URL: https://hedgehog.fhcrc.org/bioconductor/branches/RELEASE_3_4/madman/Rpacks/tkWidgets |  | Last Changed Rev: 122710 / Revision: 128728 |  | Last Changed Date: 2016-10-17 14:45:06 -0400 (Mon, 17 Oct 2016) | 
 | malbec1 | Linux (Ubuntu 16.04.1 LTS) / x86_64 | OK | OK | OK |  |  | 
| tokay1 | Windows Server 2012 R2 Standard / x64 | OK | OK | OK | [ OK ] |  | 
| morelia | Mac OS X Mavericks (10.9.5) / x86_64 | OK | OK | OK | OK |  | 
##############################################################################
##############################################################################
###
### Running command:
###
###   cd tkWidgets.buildbin-libdir/tkWidgets && zip -r ../../tkWidgets_1.52.0.zip . & cd ../..
###
##############################################################################
##############################################################################
  adding: DESCRIPTION (284 bytes security) (deflated 35%)
  adding: doc/ (324 bytes security) (stored 0%)
  adding: doc/importWizard.pdf (284 bytes security) (deflated 8%)
  adding: doc/importWizard.R (284 bytes security) (deflated 51%)
  adding: doc/importWizard.Rnw (284 bytes security) (deflated 63%)
  adding: doc/index.html (284 bytes security) (deflated 68%)
  adding: doc/tkWidgets.pdf (284 bytes security) (deflated 11%)
  adding: doc/tkWidgets.R (284 bytes security) (deflated 72%)
  adding: doc/tkWidgets.Rnw (284 bytes security) (deflated 70%)
  adding: help/ (324 bytes security) (stored 0%)
  adding: help/aliases.rds (284 bytes security) (stored 0%)
  adding: help/AnIndex (284 bytes security) (deflated 72%)
  adding: help/paths.rds (284 bytes security) (stored 0%)
  adding: help/tkWidgets.rdb (284 bytes security) (deflated 1%)
  adding: help/tkWidgets.rdx (284 bytes security) (stored 0%)
  adding: html/ (324 bytes security) (stored 0%)
  adding: html/00Index.html (284 bytes security) (deflated 87%)
  adding: html/R.css (284 bytes security) (deflated 75%)
  adding: INDEX (284 bytes security) (deflated 64%)
  adding: MD5 (284 bytes security) (deflated 46%)
  adding: Meta/ (324 bytes security) (stored 0%)
  adding: Meta/hsearch.rds (284 bytes security) (stored 0%)
  adding: Meta/links.rds (284 bytes security) (stored 0%)
  adding: Meta/nsInfo.rds (284 bytes security) (stored 0%)
  adding: Meta/package.rds (284 bytes security) (stored 0%)
  adding: Meta/Rd.rds (284 bytes security) (stored 0%)
  adding: Meta/vignette.rds (284 bytes security) (stored 0%)
  adding: NAMESPACE (284 bytes security) (deflated 44%)
  adding: R/ (324 bytes security) (stored 0%)
  adding: R/tkWidgets (284 bytes security) (deflated 41%)
  adding: R/tkWidgets.rdb (284 bytes security) (deflated 9%)
  adding: R/tkWidgets.rdx (284 bytes security) (stored 0%)
  adding: testfiles/ (324 bytes security) (stored 0%)
  adding: testfiles/chrNBothNames.txt (284 bytes security) (deflated 59%)
  adding: testfiles/chrNCNames.txt (284 bytes security) (deflated 53%)
  adding: testfiles/chrNRNames.txt (284 bytes security) (deflated 58%)
  adding: testfiles/cNames.txt (284 bytes security) (deflated 33%)
  adding: testfiles/cNRNames.txt (284 bytes security) (deflated 39%)
  adding: testfiles/colSep.txt (284 bytes security) (deflated 20%)
  adding: testfiles/noName.txt (284 bytes security) (deflated 22%)