| survcomp 1.24.0 Benjamin Haibe-Kains , Markus Schroeder , Catharina Olsen
 
 | Snapshot Date: 2017-04-14 17:17:13 -0400 (Fri, 14 Apr 2017) |  | URL: https://hedgehog.fhcrc.org/bioconductor/branches/RELEASE_3_4/madman/Rpacks/survcomp |  | Last Changed Rev: 122710 / Revision: 128728 |  | Last Changed Date: 2016-10-17 14:45:06 -0400 (Mon, 17 Oct 2016) | 
 | malbec1 | Linux (Ubuntu 16.04.1 LTS) / x86_64 | OK | OK | OK |  |  | 
| tokay1 | Windows Server 2012 R2 Standard / x64 | OK | OK | OK | [ OK ] |  | 
| morelia | Mac OS X Mavericks (10.9.5) / x86_64 | OK | OK | OK | OK |  | 
##############################################################################
##############################################################################
###
### Running command:
###
###   cd survcomp.buildbin-libdir/survcomp && zip -r ../../survcomp_1.24.0.zip . & cd ../..
###
##############################################################################
##############################################################################
  adding: CITATION (284 bytes security) (deflated 61%)
  adding: data/ (324 bytes security) (stored 0%)
  adding: data/breastCancerData.RData (284 bytes security) (deflated 0%)
  adding: DESCRIPTION (284 bytes security) (deflated 37%)
  adding: doc/ (324 bytes security) (stored 0%)
  adding: doc/index.html (284 bytes security) (deflated 58%)
  adding: doc/survcomp.pdf (284 bytes security) (deflated 27%)
  adding: doc/survcomp.R (284 bytes security) (deflated 86%)
  adding: doc/survcomp.Rnw (284 bytes security) (deflated 77%)
  adding: help/ (324 bytes security) (stored 0%)
  adding: help/aliases.rds (284 bytes security) (stored 0%)
  adding: help/AnIndex (284 bytes security) (deflated 64%)
  adding: help/paths.rds (284 bytes security) (stored 0%)
  adding: help/survcomp.rdb (284 bytes security) (deflated 1%)
  adding: help/survcomp.rdx (284 bytes security) (stored 0%)
  adding: html/ (324 bytes security) (stored 0%)
  adding: html/00Index.html (284 bytes security) (deflated 78%)
  adding: html/R.css (284 bytes security) (deflated 75%)
  adding: INDEX (284 bytes security) (deflated 76%)
  adding: libs/ (324 bytes security) (stored 0%)
  adding: libs/i386/ (324 bytes security) (stored 0%)
  adding: libs/i386/survcomp.dll (284 bytes security) (deflated 65%)
  adding: libs/x64/ (324 bytes security) (stored 0%)
  adding: libs/x64/survcomp.dll (284 bytes security) (deflated 67%)
  adding: MD5 (284 bytes security) (deflated 43%)
  adding: Meta/ (324 bytes security) (stored 0%)
  adding: Meta/data.rds (284 bytes security) (stored 0%)
  adding: Meta/hsearch.rds (284 bytes security) (stored 0%)
  adding: Meta/links.rds (284 bytes security) (stored 0%)
  adding: Meta/nsInfo.rds (284 bytes security) (stored 0%)
  adding: Meta/package.rds (284 bytes security) (stored 0%)
  adding: Meta/Rd.rds (284 bytes security) (stored 0%)
  adding: Meta/vignette.rds (284 bytes security) (stored 0%)
  adding: NAMESPACE (284 bytes security) (deflated 41%)
  adding: R/ (324 bytes security) (stored 0%)
  adding: R/survcomp (284 bytes security) (deflated 41%)
  adding: R/survcomp.rdb (284 bytes security) (deflated 1%)
  adding: R/survcomp.rdx (284 bytes security) (stored 0%)