simpleaffy 2.50.0 Crispin Miller
 | Snapshot Date: 2017-04-14 17:17:13 -0400 (Fri, 14 Apr 2017) |  | URL: https://hedgehog.fhcrc.org/bioconductor/branches/RELEASE_3_4/madman/Rpacks/simpleaffy |  | Last Changed Rev: 122710 / Revision: 128728 |  | Last Changed Date: 2016-10-17 14:45:06 -0400 (Mon, 17 Oct 2016) |  
  | malbec1  | Linux (Ubuntu 16.04.1 LTS) / x86_64  | [ OK ] |  OK  |  WARNINGS  |  |   | 
| tokay1  | Windows Server 2012 R2 Standard / x64  |  OK  |  OK  |  WARNINGS  |  OK  |   | 
| morelia  | Mac OS X Mavericks (10.9.5) / x86_64  |  OK  |  OK  |  WARNINGS  |  OK  |   | 
##############################################################################
##############################################################################
###
### Running command:
###
###   /home/biocbuild/bbs-3.4-bioc/R/bin/R CMD INSTALL simpleaffy
###
##############################################################################
##############################################################################
* installing to library ‘/home/biocbuild/bbs-3.4-bioc/R/library’
* installing *source* package ‘simpleaffy’ ...
** libs
gcc -I/home/biocbuild/bbs-3.4-bioc/R/include -DNDEBUG  -I/usr/local/include    -fpic  -g -O2  -Wall -c simpleaffy.c -o simpleaffy.o
simpleaffy.c: In function ‘bgmas’:
simpleaffy.c:440:30: warning: passing argument 1 of ‘REprintf’ from incompatible pointer type [-Wincompatible-pointer-types]
     if(gn >= ngrid) REprintf(stderr,"Really ouch! %d %d\n",gn,ends[gn]);
                              ^
In file included from /home/biocbuild/bbs-3.4-bioc/R/include/R.h:81:0,
                 from simpleaffy.c:5:
/home/biocbuild/bbs-3.4-bioc/R/include/R_ext/Print.h:44:6: note: expected ‘const char *’ but argument is of type ‘struct _IO_FILE *’
 void REprintf(const char *, ...);
      ^
gcc -shared -L/home/biocbuild/bbs-3.4-bioc/R/lib -L/usr/local/lib -o simpleaffy.so simpleaffy.o -L/home/biocbuild/bbs-3.4-bioc/R/lib -lR
installing to /home/biocbuild/bbs-3.4-bioc/R/library/simpleaffy/libs
** R
** data
** inst
** preparing package for lazy loading
** help
*** installing help indices
** building package indices
** installing vignettes
** testing if installed package can be loaded
* DONE (simpleaffy)