rTANDEM 1.14.2 Frederic Fournier
 | Snapshot Date: 2017-04-14 17:17:13 -0400 (Fri, 14 Apr 2017) |  | URL: https://hedgehog.fhcrc.org/bioconductor/branches/RELEASE_3_4/madman/Rpacks/rTANDEM |  | Last Changed Rev: 128538 / Revision: 128728 |  | Last Changed Date: 2017-04-11 09:36:37 -0400 (Tue, 11 Apr 2017) |  
  | malbec1  | Linux (Ubuntu 16.04.1 LTS) / x86_64  |  OK  |  OK  |  OK  |  |   | 
| tokay1  | Windows Server 2012 R2 Standard / x64  |  OK  |  OK  |  OK  | [ OK ] |   | 
| morelia  | Mac OS X Mavericks (10.9.5) / x86_64  |  OK  |  OK  |  OK  |  OK  |   | 
##############################################################################
##############################################################################
###
### Running command:
###
###   cd rTANDEM.buildbin-libdir/rTANDEM && zip -r ../../rTANDEM_1.14.2.zip . & cd ../..
###
##############################################################################
##############################################################################
  adding: DESCRIPTION (284 bytes security) (deflated 51%)
  adding: doc/ (324 bytes security) (stored 0%)
  adding: doc/index.html (284 bytes security) (deflated 58%)
  adding: doc/rTANDEM.pdf (284 bytes security) (deflated 10%)
  adding: doc/rTANDEM.R (284 bytes security) (deflated 71%)
  adding: doc/rTANDEM.Rnw (284 bytes security) (deflated 66%)
  adding: extdata/ (324 bytes security) (stored 0%)
  adding: extdata/default_input.xml (284 bytes security) (deflated 75%)
  adding: extdata/fasta/ (324 bytes security) (stored 0%)
  adding: extdata/fasta/scd.fasta.pro (284 bytes security) (deflated 42%)
  adding: extdata/input.xml (284 bytes security) (deflated 55%)
  adding: extdata/ptmlist.txt (284 bytes security) (deflated 87%)
  adding: extdata/result.xml (284 bytes security) (deflated 83%)
  adding: extdata/tandem-input-style.xsl (284 bytes security) (deflated 59%)
  adding: extdata/tandem-style.css (284 bytes security) (deflated 85%)
  adding: extdata/tandem-style.xsl (284 bytes security) (deflated 77%)
  adding: extdata/taxonomy.xml (284 bytes security) (deflated 40%)
  adding: extdata/test_spectra.mgf (284 bytes security) (deflated 57%)
  adding: help/ (324 bytes security) (stored 0%)
  adding: help/aliases.rds (284 bytes security) (stored 0%)
  adding: help/AnIndex (284 bytes security) (deflated 73%)
  adding: help/paths.rds (284 bytes security) (stored 0%)
  adding: help/rTANDEM.rdb (284 bytes security) (deflated 1%)
  adding: help/rTANDEM.rdx (284 bytes security) (stored 0%)
  adding: html/ (324 bytes security) (stored 0%)
  adding: html/00Index.html (284 bytes security) (deflated 85%)
  adding: html/R.css (284 bytes security) (deflated 75%)
  adding: INDEX (284 bytes security) (deflated 55%)
  adding: libs/ (324 bytes security) (stored 0%)
  adding: libs/i386/ (324 bytes security) (stored 0%)
  adding: libs/i386/rTANDEM.dll (284 bytes security) (deflated 62%)
  adding: libs/x64/ (324 bytes security) (stored 0%)
  adding: libs/x64/rTANDEM.dll (284 bytes security) (deflated 62%)
  adding: LICENSE (284 bytes security) (deflated 60%)
  adding: MD5 (284 bytes security) (deflated 43%)
  adding: Meta/ (324 bytes security) (stored 0%)
  adding: Meta/hsearch.rds (284 bytes security) (stored 0%)
  adding: Meta/links.rds (284 bytes security) (stored 0%)
  adding: Meta/nsInfo.rds (284 bytes security) (stored 0%)
  adding: Meta/package.rds (284 bytes security) (stored 0%)
  adding: Meta/Rd.rds (284 bytes security) (stored 0%)
  adding: Meta/vignette.rds (284 bytes security) (stored 0%)
  adding: NAMESPACE (284 bytes security) (stored 0%)
  adding: NEWS (284 bytes security) (deflated 64%)
  adding: R/ (324 bytes security) (stored 0%)
  adding: R/rTANDEM (284 bytes security) (deflated 41%)
  adding: R/rTANDEM.rdb (284 bytes security) (deflated 36%)
  adding: R/rTANDEM.rdx (284 bytes security) (stored 0%)