| qusage 2.6.1 Christopher Bolen
 
 | Snapshot Date: 2017-04-14 17:17:13 -0400 (Fri, 14 Apr 2017) |  | URL: https://hedgehog.fhcrc.org/bioconductor/branches/RELEASE_3_4/madman/Rpacks/qusage |  | Last Changed Rev: 126733 / Revision: 128728 |  | Last Changed Date: 2017-02-13 10:51:12 -0500 (Mon, 13 Feb 2017) | 
 | malbec1 | Linux (Ubuntu 16.04.1 LTS) / x86_64 | OK | OK | OK |  |  | 
| tokay1 | Windows Server 2012 R2 Standard / x64 | [ OK ] | OK | OK | OK |  | 
| morelia | Mac OS X Mavericks (10.9.5) / x86_64 | OK | OK | OK | OK |  | 
##############################################################################
##############################################################################
###
### Running command:
###
###   rm -rf qusage.buildbin-libdir && mkdir qusage.buildbin-libdir  && C:\cygwin\bin\curl.exe -O http://172.29.0.3/BBS/3.4/bioc/src/contrib/qusage_2.6.1.tar.gz && C:\Users\biocbuild\bbs-3.4-bioc\R\bin\R.exe CMD INSTALL --build --library=qusage.buildbin-libdir --merge-multiarch qusage_2.6.1.tar.gz && C:\Users\biocbuild\bbs-3.4-bioc\R\bin\R.exe CMD INSTALL qusage_2.6.1.zip  && rm qusage_2.6.1.tar.gz qusage_2.6.1.zip
###
##############################################################################
##############################################################################
  % Total    % Received % Xferd  Average Speed   Time    Time     Time  Current
                                 Dload  Upload   Total   Spent    Left  Speed
  0     0    0     0    0     0      0      0 --:--:-- --:--:-- --:--:--     0
100 8776k  100 8776k    0     0  34.4M      0 --:--:-- --:--:-- --:--:-- 34.5M
install for i386
* installing *source* package 'qusage' ...
** R
** data
** inst
** preparing package for lazy loading
** help
*** installing help indices
** building package indices
** installing vignettes
   'qusage.Rnw' 
** testing if installed package can be loaded
install for x64
* installing *source* package 'qusage' ...
** testing if installed package can be loaded
* MD5 sums
packaged installation of 'qusage' as qusage_2.6.1.zip
* DONE (qusage)
* installing to library 'C:/Users/biocbuild/bbs-3.4-bioc/R/library'
package 'qusage' successfully unpacked and MD5 sums checked