neaGUI 1.9.1 Setia Pramana
 | Snapshot Date: 2016-05-01 16:20:05 -0700 (Sun, 01 May 2016) |  | URL: https://hedgehog.fhcrc.org/bioconductor/trunk/madman/Rpacks/neaGUI |  | Last Changed Rev: 116033 / Revision: 116959 |  | Last Changed Date: 2016-04-08 15:55:20 -0700 (Fri, 08 Apr 2016) |  
  | zin1  | Linux (Ubuntu 16.04 LTS) / x86_64  | [ OK ] |  ERROR  |  skipped  |  |  | 
| moscato1  | Windows Server 2008 R2 Standard (64-bit) / x64  |  OK  |  ERROR  |  skipped  |  skipped  |  | 
##############################################################################
##############################################################################
###
### Running command:
###
###   /home/biocbuild/bbs-3.4-bioc/R/bin/R CMD INSTALL neaGUI
###
##############################################################################
##############################################################################
* installing to library ‘/home/biocbuild/bbs-3.4-bioc/R/library’
* installing *source* package ‘neaGUI’ ...
** R
** inst
** preparing package for lazy loading
** help
*** installing help indices
** building package indices
** installing vignettes
** testing if installed package can be loaded
Warning: Package 'neaGUI' is deprecated and will be removed from Bioconductor
  version 3.3
* DONE (neaGUI)