msmsTests 1.11.0 Josep Gregori i Font
 | Snapshot Date: 2016-09-19 19:15:14 -0700 (Mon, 19 Sep 2016) |  | URL: https://hedgehog.fhcrc.org/bioconductor/trunk/madman/Rpacks/msmsTests |  | Last Changed Rev: 117081 / Revision: 121152 |  | Last Changed Date: 2016-05-03 14:30:44 -0700 (Tue, 03 May 2016) |  
  | zin1  | Linux (Ubuntu 16.04 LTS) / x86_64  |  OK  |  OK  |  OK  |  |   | 
| moscato1  | Windows Server 2008 R2 Standard (64-bit) / x64  |  OK  |  OK  |  OK  | [ OK ] |   | 
| morelia  | Mac OS X Mavericks (10.9.5) / x86_64  |  OK  |  OK  |  OK  |  OK  |   | 
##############################################################################
##############################################################################
###
### Running command:
###
###   cd msmsTests.buildbin-libdir/msmsTests && zip -r ../../msmsTests_1.11.0.zip . & cd ../..
###
##############################################################################
##############################################################################
  adding: data/ (208 bytes security) (stored 0%)
  adding: data/msms.spk.rda (188 bytes security) (deflated 0%)
  adding: DESCRIPTION (188 bytes security) (deflated 39%)
  adding: doc/ (208 bytes security) (stored 0%)
  adding: doc/index.html (188 bytes security) (deflated 68%)
  adding: doc/msmsTests-Vignette.pdf (188 bytes security) (deflated 8%)
  adding: doc/msmsTests-Vignette.R (188 bytes security) (deflated 75%)
  adding: doc/msmsTests-Vignette.Rnw (188 bytes security) (deflated 63%)
  adding: doc/msmsTests-Vignette2.pdf (188 bytes security) (deflated 10%)
  adding: doc/msmsTests-Vignette2.R (188 bytes security) (deflated 79%)
  adding: doc/msmsTests-Vignette2.Rnw (188 bytes security) (deflated 64%)
  adding: help/ (208 bytes security) (stored 0%)
  adding: help/aliases.rds (188 bytes security) (stored 0%)
  adding: help/AnIndex (188 bytes security) (deflated 54%)
  adding: help/msmsTests.rdb (188 bytes security) (deflated 0%)
  adding: help/msmsTests.rdx (188 bytes security) (stored 0%)
  adding: help/paths.rds (188 bytes security) (stored 0%)
  adding: html/ (208 bytes security) (stored 0%)
  adding: html/00Index.html (188 bytes security) (deflated 64%)
  adding: html/R.css (188 bytes security) (deflated 75%)
  adding: INDEX (188 bytes security) (deflated 59%)
  adding: MD5 (188 bytes security) (deflated 46%)
  adding: Meta/ (208 bytes security) (stored 0%)
  adding: Meta/data.rds (188 bytes security) (stored 0%)
  adding: Meta/hsearch.rds (188 bytes security) (stored 0%)
  adding: Meta/links.rds (188 bytes security) (stored 0%)
  adding: Meta/nsInfo.rds (188 bytes security) (stored 0%)
  adding: Meta/package.rds (188 bytes security) (stored 0%)
  adding: Meta/Rd.rds (188 bytes security) (stored 0%)
  adding: Meta/vignette.rds (188 bytes security) (stored 0%)
  adding: NAMESPACE (188 bytes security) (deflated 21%)
  adding: R/ (208 bytes security) (stored 0%)
  adding: R/msmsTests (188 bytes security) (deflated 41%)
  adding: R/msmsTests.rdb (188 bytes security) (deflated 2%)
  adding: R/msmsTests.rdx (188 bytes security) (stored 0%)