| microRNA 1.32.0 "James F. Reid"
 
 | Snapshot Date: 2017-04-14 17:17:13 -0400 (Fri, 14 Apr 2017) |  | URL: https://hedgehog.fhcrc.org/bioconductor/branches/RELEASE_3_4/madman/Rpacks/microRNA |  | Last Changed Rev: 122710 / Revision: 128728 |  | Last Changed Date: 2016-10-17 14:45:06 -0400 (Mon, 17 Oct 2016) | 
 | malbec1 | Linux (Ubuntu 16.04.1 LTS) / x86_64 | OK | OK | OK |  |  | 
| tokay1 | Windows Server 2012 R2 Standard / x64 | [ OK ] | OK | OK | OK |  | 
| morelia | Mac OS X Mavericks (10.9.5) / x86_64 | OK | OK | OK | OK |  | 
##############################################################################
##############################################################################
###
### Running command:
###
###   rm -rf microRNA.buildbin-libdir && mkdir microRNA.buildbin-libdir  && C:\cygwin\bin\curl.exe -O http://172.29.0.3/BBS/3.4/bioc/src/contrib/microRNA_1.32.0.tar.gz && C:\Users\biocbuild\bbs-3.4-bioc\R\bin\R.exe CMD INSTALL --build --library=microRNA.buildbin-libdir --merge-multiarch microRNA_1.32.0.tar.gz && C:\Users\biocbuild\bbs-3.4-bioc\R\bin\R.exe CMD INSTALL microRNA_1.32.0.zip  && rm microRNA_1.32.0.tar.gz microRNA_1.32.0.zip
###
##############################################################################
##############################################################################
  % Total    % Received % Xferd  Average Speed   Time    Time     Time  Current
                                 Dload  Upload   Total   Spent    Left  Speed
  0     0    0     0    0     0      0      0 --:--:-- --:--:-- --:--:--     0
100 5885k  100 5885k    0     0  19.5M      0 --:--:-- --:--:-- --:--:-- 19.6M
install for i386
* installing *source* package 'microRNA' ...
** R
** data
** inst
** preparing package for lazy loading
** help
*** installing help indices
** building package indices
** testing if installed package can be loaded
install for x64
* installing *source* package 'microRNA' ...
** testing if installed package can be loaded
* MD5 sums
packaged installation of 'microRNA' as microRNA_1.32.0.zip
* DONE (microRNA)
* installing to library 'C:/Users/biocbuild/bbs-3.4-bioc/R/library'
package 'microRNA' successfully unpacked and MD5 sums checked