| methylumi 2.20.0 Sean Davis
 
 | Snapshot Date: 2017-04-14 17:17:13 -0400 (Fri, 14 Apr 2017) |  | URL: https://hedgehog.fhcrc.org/bioconductor/branches/RELEASE_3_4/madman/Rpacks/methylumi |  | Last Changed Rev: 122710 / Revision: 128728 |  | Last Changed Date: 2016-10-17 14:45:06 -0400 (Mon, 17 Oct 2016) | 
 | malbec1 | Linux (Ubuntu 16.04.1 LTS) / x86_64 | OK | OK | WARNINGS |  |  | 
| tokay1 | Windows Server 2012 R2 Standard / x64 | OK | OK | WARNINGS | [ OK ] |  | 
| morelia | Mac OS X Mavericks (10.9.5) / x86_64 | OK | OK | WARNINGS | OK |  | 
##############################################################################
##############################################################################
###
### Running command:
###
###   cd methylumi.buildbin-libdir/methylumi && zip -r ../../methylumi_2.20.0.zip . & cd ../..
###
##############################################################################
##############################################################################
  adding: data/ (324 bytes security) (stored 0%)
  adding: data/5318317007_A_Grn.idat (284 bytes security) (deflated 46%)
  adding: data/5318317007_A_Red.idat (284 bytes security) (deflated 47%)
  adding: data/5318317007_B_Grn.idat (284 bytes security) (deflated 46%)
  adding: data/5318317007_B_Red.idat (284 bytes security) (deflated 47%)
  adding: data/5318317007_C_Grn.idat (284 bytes security) (deflated 46%)
  adding: data/5318317007_C_Red.idat (284 bytes security) (deflated 47%)
  adding: data/CpGs.rda (284 bytes security) (deflated 1%)
  adding: data/datalist (284 bytes security) (stored 0%)
  adding: data/mldat.rda (284 bytes security) (deflated 0%)
  adding: data/test27k.R (284 bytes security) (deflated 24%)
  adding: DESCRIPTION (284 bytes security) (deflated 49%)
  adding: doc/ (324 bytes security) (stored 0%)
  adding: doc/index.html (284 bytes security) (deflated 67%)
  adding: doc/methylumi.pdf (284 bytes security) (deflated 15%)
  adding: doc/methylumi.R (284 bytes security) (deflated 60%)
  adding: doc/methylumi.Rnw (284 bytes security) (deflated 60%)
  adding: doc/methylumi450k.pdf (284 bytes security) (deflated 4%)
  adding: doc/methylumi450k.R (284 bytes security) (deflated 64%)
  adding: doc/methylumi450k.Rnw (284 bytes security) (deflated 60%)
  adding: extdata/ (324 bytes security) (stored 0%)
  adding: extdata/exampledata.controls.txt (284 bytes security) (deflated 53%)
  adding: extdata/exampledata.samples.txt (284 bytes security) (deflated 67%)
  adding: extdata/samples.txt (284 bytes security) (deflated 61%)
  adding: extdata/substitutions.txt (284 bytes security) (deflated 52%)
  adding: help/ (324 bytes security) (stored 0%)
  adding: help/aliases.rds (284 bytes security) (stored 0%)
  adding: help/AnIndex (284 bytes security) (deflated 86%)
  adding: help/methylumi.rdb (284 bytes security) (deflated 1%)
  adding: help/methylumi.rdx (284 bytes security) (stored 0%)
  adding: help/paths.rds (284 bytes security) (stored 0%)
  adding: html/ (324 bytes security) (stored 0%)
  adding: html/00Index.html (284 bytes security) (deflated 91%)
  adding: html/R.css (284 bytes security) (deflated 75%)
  adding: INDEX (284 bytes security) (deflated 67%)
  adding: MD5 (284 bytes security) (deflated 47%)
  adding: Meta/ (324 bytes security) (stored 0%)
  adding: Meta/data.rds (284 bytes security) (stored 0%)
  adding: Meta/hsearch.rds (284 bytes security) (stored 0%)
  adding: Meta/links.rds (284 bytes security) (stored 0%)
  adding: Meta/nsInfo.rds (284 bytes security) (stored 0%)
  adding: Meta/package.rds (284 bytes security) (stored 0%)
  adding: Meta/Rd.rds (284 bytes security) (stored 0%)
  adding: Meta/vignette.rds (284 bytes security) (stored 0%)
  adding: NAMESPACE (284 bytes security) (deflated 60%)
  adding: NEWS.methylumIDAT (284 bytes security) (deflated 42%)
  adding: R/ (324 bytes security) (stored 0%)
  adding: R/methylumi (284 bytes security) (deflated 41%)
  adding: R/methylumi.rdb (284 bytes security) (deflated 26%)
  adding: R/methylumi.rdx (284 bytes security) (deflated 4%)