| idiogram 1.50.0 Karl J. Dykema
 
 | Snapshot Date: 2017-04-14 17:17:13 -0400 (Fri, 14 Apr 2017) |  | URL: https://hedgehog.fhcrc.org/bioconductor/branches/RELEASE_3_4/madman/Rpacks/idiogram |  | Last Changed Rev: 122710 / Revision: 128728 |  | Last Changed Date: 2016-10-17 14:45:06 -0400 (Mon, 17 Oct 2016) | 
 | malbec1 | Linux (Ubuntu 16.04.1 LTS) / x86_64 | OK | OK | OK |  |  | 
| tokay1 | Windows Server 2012 R2 Standard / x64 | OK | OK | OK | [ OK ] |  | 
| morelia | Mac OS X Mavericks (10.9.5) / x86_64 | OK | OK | OK | OK |  | 
##############################################################################
##############################################################################
###
### Running command:
###
###   cd idiogram.buildbin-libdir/idiogram && zip -r ../../idiogram_1.50.0.zip . & cd ../..
###
##############################################################################
##############################################################################
  adding: data/ (324 bytes security) (stored 0%)
  adding: data/datalist (284 bytes security) (deflated 30%)
  adding: data/Rdata.rdb (284 bytes security) (deflated 10%)
  adding: data/Rdata.rds (284 bytes security) (stored 0%)
  adding: data/Rdata.rdx (284 bytes security) (stored 0%)
  adding: DESCRIPTION (284 bytes security) (deflated 33%)
  adding: doc/ (324 bytes security) (stored 0%)
  adding: doc/idiogram.pdf (284 bytes security) (deflated 6%)
  adding: doc/idiogram.R (284 bytes security) (deflated 61%)
  adding: doc/idiogram.Rnw (284 bytes security) (deflated 56%)
  adding: doc/index.html (284 bytes security) (deflated 58%)
  adding: help/ (324 bytes security) (stored 0%)
  adding: help/aliases.rds (284 bytes security) (stored 0%)
  adding: help/AnIndex (284 bytes security) (deflated 61%)
  adding: help/idiogram.rdb (284 bytes security) (deflated 0%)
  adding: help/idiogram.rdx (284 bytes security) (stored 0%)
  adding: help/paths.rds (284 bytes security) (stored 0%)
  adding: html/ (324 bytes security) (stored 0%)
  adding: html/00Index.html (284 bytes security) (deflated 70%)
  adding: html/R.css (284 bytes security) (deflated 75%)
  adding: INDEX (284 bytes security) (deflated 49%)
  adding: MD5 (284 bytes security) (deflated 44%)
  adding: Meta/ (324 bytes security) (stored 0%)
  adding: Meta/data.rds (284 bytes security) (stored 0%)
  adding: Meta/hsearch.rds (284 bytes security) (stored 0%)
  adding: Meta/links.rds (284 bytes security) (stored 0%)
  adding: Meta/nsInfo.rds (284 bytes security) (stored 0%)
  adding: Meta/package.rds (284 bytes security) (stored 0%)
  adding: Meta/Rd.rds (284 bytes security) (stored 0%)
  adding: Meta/vignette.rds (284 bytes security) (stored 0%)
  adding: NAMESPACE (284 bytes security) (deflated 14%)
  adding: R/ (324 bytes security) (stored 0%)
  adding: R/idiogram (284 bytes security) (deflated 41%)
  adding: R/idiogram.rdb (284 bytes security) (deflated 2%)
  adding: R/idiogram.rdx (284 bytes security) (stored 0%)