| graphite 1.20.1 Gabriele Sales
 
 | Snapshot Date: 2017-04-14 17:17:13 -0400 (Fri, 14 Apr 2017) |  | URL: https://hedgehog.fhcrc.org/bioconductor/branches/RELEASE_3_4/madman/Rpacks/graphite |  | Last Changed Rev: 122747 / Revision: 128728 |  | Last Changed Date: 2016-10-18 07:37:21 -0400 (Tue, 18 Oct 2016) | 
 | malbec1 | Linux (Ubuntu 16.04.1 LTS) / x86_64 | OK | OK | OK |  |  | 
| tokay1 | Windows Server 2012 R2 Standard / x64 | [ OK ] | OK | OK | OK |  | 
| morelia | Mac OS X Mavericks (10.9.5) / x86_64 | OK | OK | OK | OK |  | 
##############################################################################
##############################################################################
###
### Running command:
###
###   rm -rf graphite.buildbin-libdir && mkdir graphite.buildbin-libdir  && C:\cygwin\bin\curl.exe -O http://172.29.0.3/BBS/3.4/bioc/src/contrib/graphite_1.20.1.tar.gz && C:\Users\biocbuild\bbs-3.4-bioc\R\bin\R.exe CMD INSTALL --build --library=graphite.buildbin-libdir --merge-multiarch graphite_1.20.1.tar.gz && C:\Users\biocbuild\bbs-3.4-bioc\R\bin\R.exe CMD INSTALL graphite_1.20.1.zip  && rm graphite_1.20.1.tar.gz graphite_1.20.1.zip
###
##############################################################################
##############################################################################
  % Total    % Received % Xferd  Average Speed   Time    Time     Time  Current
                                 Dload  Upload   Total   Spent    Left  Speed
  0     0    0     0    0     0      0      0 --:--:-- --:--:-- --:--:--     0
100 1936k  100 1936k    0     0  14.5M      0 --:--:-- --:--:-- --:--:-- 14.6M
install for i386
* installing *source* package 'graphite' ...
** R
** data
*** moving datasets to lazyload DB
** inst
** preparing package for lazy loading
** help
*** installing help indices
** building package indices
** installing vignettes
** testing if installed package can be loaded
install for x64
* installing *source* package 'graphite' ...
** testing if installed package can be loaded
* MD5 sums
packaged installation of 'graphite' as graphite_1.20.1.zip
* DONE (graphite)
* installing to library 'C:/Users/biocbuild/bbs-3.4-bioc/R/library'
package 'graphite' successfully unpacked and MD5 sums checked