epivizrServer 1.1.4 Hector Corrada Bravo
 | Snapshot Date: 2016-09-19 19:15:14 -0700 (Mon, 19 Sep 2016) |  | URL: https://hedgehog.fhcrc.org/bioconductor/trunk/madman/Rpacks/epivizrServer |  | Last Changed Rev: 119890 / Revision: 121152 |  | Last Changed Date: 2016-08-04 12:17:42 -0700 (Thu, 04 Aug 2016) |  
  | zin1  | Linux (Ubuntu 16.04 LTS) / x86_64  |  OK  | [ OK ] |  OK  |  |   | 
| moscato1  | Windows Server 2008 R2 Standard (64-bit) / x64  |  OK  |  OK  |  OK  |  OK  |   | 
| morelia  | Mac OS X Mavericks (10.9.5) / x86_64  |  OK  |  OK  |  OK  |  OK  |   | 
##############################################################################
##############################################################################
###
### Running command:
###
###   /home/biocbuild/bbs-3.4-bioc/R/bin/R CMD build --keep-empty-dirs --no-resave-data epivizrServer
###
##############################################################################
##############################################################################
* checking for file ‘epivizrServer/DESCRIPTION’ ... OK
* preparing ‘epivizrServer’:
* checking DESCRIPTION meta-information ... OK
* installing the package to build vignettes
* creating vignettes ... OK
* checking for LF line-endings in source and make files
* checking for empty or unneeded directories
* building ‘epivizrServer_1.1.4.tar.gz’