| easyRNASeq 2.10.0 Nicolas Delhomme
 
 | Snapshot Date: 2017-04-14 17:17:13 -0400 (Fri, 14 Apr 2017) |  | URL: https://hedgehog.fhcrc.org/bioconductor/branches/RELEASE_3_4/madman/Rpacks/easyRNASeq |  | Last Changed Rev: 123153 / Revision: 128728 |  | Last Changed Date: 2016-10-28 13:47:17 -0400 (Fri, 28 Oct 2016) | 
 | malbec1 | Linux (Ubuntu 16.04.1 LTS) / x86_64 | OK | OK | OK |  |  | 
| tokay1 | Windows Server 2012 R2 Standard / x64 | [ OK ] | OK | OK | OK |  | 
| morelia | Mac OS X Mavericks (10.9.5) / x86_64 | OK | OK | OK | OK |  | 
##############################################################################
##############################################################################
###
### Running command:
###
###   rm -rf easyRNASeq.buildbin-libdir && mkdir easyRNASeq.buildbin-libdir  && C:\cygwin\bin\curl.exe -O http://172.29.0.3/BBS/3.4/bioc/src/contrib/easyRNASeq_2.10.0.tar.gz && C:\Users\biocbuild\bbs-3.4-bioc\R\bin\R.exe CMD INSTALL --build --library=easyRNASeq.buildbin-libdir --merge-multiarch easyRNASeq_2.10.0.tar.gz && C:\Users\biocbuild\bbs-3.4-bioc\R\bin\R.exe CMD INSTALL easyRNASeq_2.10.0.zip  && rm easyRNASeq_2.10.0.tar.gz easyRNASeq_2.10.0.zip
###
##############################################################################
##############################################################################
  % Total    % Received % Xferd  Average Speed   Time    Time     Time  Current
                                 Dload  Upload   Total   Spent    Left  Speed
  0     0    0     0    0     0      0      0 --:--:-- --:--:-- --:--:--     0
100  241k  100  241k    0     0  1276k      0 --:--:-- --:--:-- --:--:-- 1285k
install for i386
* installing *source* package 'easyRNASeq' ...
** R
** data
** inst
** preparing package for lazy loading
No methods found in "S4Vectors" for requests: ifelse
Creating a generic function for 'basename' from package 'base' in package 'easyRNASeq'
Creating a generic function for 'file.exists' from package 'base' in package 'easyRNASeq'
** help
*** installing help indices
** building package indices
** installing vignettes
** testing if installed package can be loaded
No methods found in "S4Vectors" for requests: ifelse
install for x64
* installing *source* package 'easyRNASeq' ...
** testing if installed package can be loaded
No methods found in "S4Vectors" for requests: ifelse
* MD5 sums
packaged installation of 'easyRNASeq' as easyRNASeq_2.10.0.zip
* DONE (easyRNASeq)
* installing to library 'C:/Users/biocbuild/bbs-3.4-bioc/R/library'
package 'easyRNASeq' successfully unpacked and MD5 sums checked