| ctc 1.48.0 Antoine Lucas
 
 | Snapshot Date: 2017-04-14 17:17:13 -0400 (Fri, 14 Apr 2017) |  | URL: https://hedgehog.fhcrc.org/bioconductor/branches/RELEASE_3_4/madman/Rpacks/ctc |  | Last Changed Rev: 122710 / Revision: 128728 |  | Last Changed Date: 2016-10-17 14:45:06 -0400 (Mon, 17 Oct 2016) | 
 | malbec1 | Linux (Ubuntu 16.04.1 LTS) / x86_64 | OK | OK | OK |  |  | 
| tokay1 | Windows Server 2012 R2 Standard / x64 | OK | OK | OK | [ OK ] |  | 
| morelia | Mac OS X Mavericks (10.9.5) / x86_64 | OK | OK | OK | OK |  | 
##############################################################################
##############################################################################
###
### Running command:
###
###   cd ctc.buildbin-libdir/ctc && zip -r ../../ctc_1.48.0.zip . & cd ../..
###
##############################################################################
##############################################################################
  adding: demo/ (324 bytes security) (stored 0%)
  adding: demo/ctc.R (284 bytes security) (deflated 64%)
  adding: DESCRIPTION (284 bytes security) (deflated 37%)
  adding: doc/ (324 bytes security) (stored 0%)
  adding: doc/ctc.pdf (284 bytes security) (deflated 6%)
  adding: doc/ctc.R (284 bytes security) (deflated 80%)
  adding: doc/ctc.Rnw (284 bytes security) (deflated 59%)
  adding: doc/index.html (284 bytes security) (deflated 57%)
  adding: exec/ (324 bytes security) (stored 0%)
  adding: exec/ctc.php (284 bytes security) (deflated 61%)
  adding: help/ (324 bytes security) (stored 0%)
  adding: help/aliases.rds (284 bytes security) (stored 0%)
  adding: help/AnIndex (284 bytes security) (deflated 54%)
  adding: help/ctc.rdb (284 bytes security) (deflated 0%)
  adding: help/ctc.rdx (284 bytes security) (stored 0%)
  adding: help/paths.rds (284 bytes security) (stored 0%)
  adding: html/ (324 bytes security) (stored 0%)
  adding: html/00Index.html (284 bytes security) (deflated 66%)
  adding: html/R.css (284 bytes security) (deflated 75%)
  adding: INDEX (284 bytes security) (deflated 60%)
  adding: MD5 (284 bytes security) (deflated 41%)
  adding: Meta/ (324 bytes security) (stored 0%)
  adding: Meta/demo.rds (284 bytes security) (stored 0%)
  adding: Meta/hsearch.rds (284 bytes security) (stored 0%)
  adding: Meta/links.rds (284 bytes security) (stored 0%)
  adding: Meta/nsInfo.rds (284 bytes security) (stored 0%)
  adding: Meta/package.rds (284 bytes security) (stored 0%)
  adding: Meta/Rd.rds (284 bytes security) (stored 0%)
  adding: Meta/vignette.rds (284 bytes security) (stored 0%)
  adding: NAMESPACE (284 bytes security) (deflated 30%)
  adding: R/ (324 bytes security) (stored 0%)
  adding: R/ctc (284 bytes security) (deflated 41%)
  adding: R/ctc.rdb (284 bytes security) (deflated 5%)
  adding: R/ctc.rdx (284 bytes security) (stored 0%)