codelink 1.41.2 Diego Diez
 | Snapshot Date: 2016-09-19 19:15:14 -0700 (Mon, 19 Sep 2016) |  | URL: https://hedgehog.fhcrc.org/bioconductor/trunk/madman/Rpacks/codelink |  | Last Changed Rev: 117512 / Revision: 121152 |  | Last Changed Date: 2016-05-15 13:14:22 -0700 (Sun, 15 May 2016) |  
  | zin1  | Linux (Ubuntu 16.04 LTS) / x86_64  |  OK  |  OK  |  OK  |  |   | 
| moscato1  | Windows Server 2008 R2 Standard (64-bit) / x64  |  OK  |  OK  |  OK  | [ OK ] |   | 
| morelia  | Mac OS X Mavericks (10.9.5) / x86_64  |  OK  |  OK  |  OK  |  OK  |   | 
##############################################################################
##############################################################################
###
### Running command:
###
###   cd codelink.buildbin-libdir/codelink && zip -r ../../codelink_1.41.2.zip . & cd ../..
###
##############################################################################
##############################################################################
  adding: CITATION (188 bytes security) (deflated 44%)
  adding: data/ (208 bytes security) (stored 0%)
  adding: data/codelink.example.rda (188 bytes security) (deflated 0%)
  adding: data/codset.rda (188 bytes security) (deflated 0%)
  adding: data/datalist (188 bytes security) (stored 0%)
  adding: DESCRIPTION (188 bytes security) (deflated 45%)
  adding: doc/ (208 bytes security) (stored 0%)
  adding: doc/changelog.txt (188 bytes security) (deflated 66%)
  adding: doc/Codelink_Introduction.pdf (188 bytes security) (deflated 3%)
  adding: doc/Codelink_Introduction.R (188 bytes security) (deflated 68%)
  adding: doc/Codelink_Introduction.Rnw (188 bytes security) (deflated 60%)
  adding: doc/Codelink_Legacy.pdf (188 bytes security) (deflated 4%)
  adding: doc/Codelink_Legacy.R (188 bytes security) (deflated 72%)
  adding: doc/Codelink_Legacy.Rnw (188 bytes security) (deflated 62%)
  adding: doc/index.html (188 bytes security) (deflated 69%)
  adding: help/ (208 bytes security) (stored 0%)
  adding: help/aliases.rds (188 bytes security) (stored 0%)
  adding: help/AnIndex (188 bytes security) (deflated 80%)
  adding: help/codelink.rdb (188 bytes security) (deflated 3%)
  adding: help/codelink.rdx (188 bytes security) (stored 0%)
  adding: help/paths.rds (188 bytes security) (stored 0%)
  adding: html/ (208 bytes security) (stored 0%)
  adding: html/00Index.html (188 bytes security) (deflated 83%)
  adding: html/R.css (188 bytes security) (deflated 75%)
  adding: INDEX (188 bytes security) (deflated 65%)
  adding: MD5 (188 bytes security) (deflated 45%)
  adding: Meta/ (208 bytes security) (stored 0%)
  adding: Meta/data.rds (188 bytes security) (stored 0%)
  adding: Meta/hsearch.rds (188 bytes security) (stored 0%)
  adding: Meta/links.rds (188 bytes security) (stored 0%)
  adding: Meta/nsInfo.rds (188 bytes security) (stored 0%)
  adding: Meta/package.rds (188 bytes security) (stored 0%)
  adding: Meta/Rd.rds (188 bytes security) (stored 0%)
  adding: Meta/vignette.rds (188 bytes security) (stored 0%)
  adding: NAMESPACE (188 bytes security) (deflated 58%)
  adding: NEWS (188 bytes security) (deflated 55%)
  adding: R/ (208 bytes security) (stored 0%)
  adding: R/codelink (188 bytes security) (deflated 41%)
  adding: R/codelink.rdb (188 bytes security) (deflated 32%)
  adding: R/codelink.rdx (188 bytes security) (deflated 1%)