clipper 1.13.0 Paolo Martini
 | Snapshot Date: 2016-09-19 19:15:14 -0700 (Mon, 19 Sep 2016) |  | URL: https://hedgehog.fhcrc.org/bioconductor/trunk/madman/Rpacks/clipper |  | Last Changed Rev: 120835 / Revision: 121152 |  | Last Changed Date: 2016-09-11 14:22:53 -0700 (Sun, 11 Sep 2016) |  
  | zin1  | Linux (Ubuntu 16.04 LTS) / x86_64  |  OK  | [ OK ] |  OK  |  |   | 
| moscato1  | Windows Server 2008 R2 Standard (64-bit) / x64  | ...NOT SUPPORTED...NOT SUPPORTED...NOT SUPPORTED... | 
| morelia  | Mac OS X Mavericks (10.9.5) / x86_64  | ...NOT SUPPORTED...NOT SUPPORTED...NOT SUPPORTED... | 
##############################################################################
##############################################################################
###
### Running command:
###
###   /home/biocbuild/bbs-3.4-bioc/R/bin/R CMD build --keep-empty-dirs --no-resave-data clipper
###
##############################################################################
##############################################################################
* checking for file ‘clipper/DESCRIPTION’ ... OK
* preparing ‘clipper’:
* checking DESCRIPTION meta-information ... OK
* installing the package to build vignettes
* creating vignettes ... OK
* checking for LF line-endings in source and make files
* checking for empty or unneeded directories
* building ‘clipper_1.13.0.tar.gz’