altcdfenvs 2.36.0 Laurent Gautier
 | Snapshot Date: 2017-04-14 17:17:13 -0400 (Fri, 14 Apr 2017) |  | URL: https://hedgehog.fhcrc.org/bioconductor/branches/RELEASE_3_4/madman/Rpacks/altcdfenvs |  | Last Changed Rev: 122710 / Revision: 128728 |  | Last Changed Date: 2016-10-17 14:45:06 -0400 (Mon, 17 Oct 2016) |  
  | malbec1  | Linux (Ubuntu 16.04.1 LTS) / x86_64  |  OK  |  OK  |  OK  |  |   | 
| tokay1  | Windows Server 2012 R2 Standard / x64  |  OK  |  OK  |  OK  | [ OK ] |   | 
| morelia  | Mac OS X Mavericks (10.9.5) / x86_64  |  OK  |  OK  |  OK  |  OK  |   | 
##############################################################################
##############################################################################
###
### Running command:
###
###   cd altcdfenvs.buildbin-libdir/altcdfenvs && zip -r ../../altcdfenvs_2.36.0.zip . & cd ../..
###
##############################################################################
##############################################################################
  adding: CITATION (284 bytes security) (deflated 51%)
  adding: data/ (324 bytes security) (stored 0%)
  adding: data/cdfenvEx.rda (284 bytes security) (stored 0%)
  adding: DESCRIPTION (284 bytes security) (deflated 42%)
  adding: doc/ (324 bytes security) (stored 0%)
  adding: doc/altcdfenvs.pdf (284 bytes security) (deflated 8%)
  adding: doc/altcdfenvs.R (284 bytes security) (deflated 75%)
  adding: doc/altcdfenvs.Rnw (284 bytes security) (deflated 58%)
  adding: doc/index.html (284 bytes security) (deflated 73%)
  adding: doc/modify.pdf (284 bytes security) (deflated 7%)
  adding: doc/modify.R (284 bytes security) (deflated 74%)
  adding: doc/modify.Rnw (284 bytes security) (deflated 54%)
  adding: doc/ngenomeschips.pdf (284 bytes security) (deflated 7%)
  adding: doc/ngenomeschips.R (284 bytes security) (deflated 75%)
  adding: doc/ngenomeschips.Rnw (284 bytes security) (deflated 54%)
  adding: exampleData/ (324 bytes security) (stored 0%)
  adding: exampleData/Plasmodium-Probeset-IDs.txt (284 bytes security) (deflated 85%)
  adding: exampleData/sample.fasta (284 bytes security) (deflated 65%)
  adding: exampleData/slamf_targets.RData (284 bytes security) (stored 0%)
  adding: help/ (324 bytes security) (stored 0%)
  adding: help/aliases.rds (284 bytes security) (stored 0%)
  adding: help/altcdfenvs.rdb (284 bytes security) (deflated 1%)
  adding: help/altcdfenvs.rdx (284 bytes security) (stored 0%)
  adding: help/AnIndex (284 bytes security) (deflated 75%)
  adding: help/paths.rds (284 bytes security) (stored 0%)
  adding: html/ (324 bytes security) (stored 0%)
  adding: html/00Index.html (284 bytes security) (deflated 82%)
  adding: html/R.css (284 bytes security) (deflated 75%)
  adding: INDEX (284 bytes security) (deflated 60%)
  adding: internalData/ (324 bytes security) (stored 0%)
  adding: internalData/chipspecs.tab (284 bytes security) (deflated 29%)
  adding: MD5 (284 bytes security) (deflated 44%)
  adding: Meta/ (324 bytes security) (stored 0%)
  adding: Meta/data.rds (284 bytes security) (stored 0%)
  adding: Meta/hsearch.rds (284 bytes security) (stored 0%)
  adding: Meta/links.rds (284 bytes security) (stored 0%)
  adding: Meta/nsInfo.rds (284 bytes security) (stored 0%)
  adding: Meta/package.rds (284 bytes security) (stored 0%)
  adding: Meta/Rd.rds (284 bytes security) (stored 0%)
  adding: Meta/vignette.rds (284 bytes security) (stored 0%)
  adding: NAMESPACE (284 bytes security) (deflated 21%)
  adding: R/ (324 bytes security) (stored 0%)
  adding: R/altcdfenvs (284 bytes security) (deflated 41%)
  adding: R/altcdfenvs.rdb (284 bytes security) (deflated 38%)
  adding: R/altcdfenvs.rdx (284 bytes security) (stored 0%)
  adding: UnitTests/ (324 bytes security) (stored 0%)
  adding: UnitTests/AffyProbesMatch_test.R (284 bytes security) (deflated 64%)