| a4Core 1.21.0 Tobias Verbeke , Willem Ligtenberg
 
 | Snapshot Date: 2016-09-19 19:15:14 -0700 (Mon, 19 Sep 2016) |  | URL: https://hedgehog.fhcrc.org/bioconductor/trunk/madman/Rpacks/a4Core |  | Last Changed Rev: 117081 / Revision: 121152 |  | Last Changed Date: 2016-05-03 14:30:44 -0700 (Tue, 03 May 2016) | 
 | zin1 | Linux (Ubuntu 16.04 LTS) / x86_64 | OK | OK | OK |  |  | 
| moscato1 | Windows Server 2008 R2 Standard (64-bit) / x64 | [ OK ] | OK | OK | OK |  | 
| morelia | Mac OS X Mavericks (10.9.5) / x86_64 | OK | OK | OK | OK |  | 
##############################################################################
##############################################################################
###
### Running command:
###
###   rm -rf a4Core.buildbin-libdir && mkdir a4Core.buildbin-libdir  && C:\cygwin\bin\curl.exe -O http://zin1/BBS/3.4/bioc/src/contrib/a4Core_1.21.0.tar.gz && D:\biocbld\bbs-3.4-bioc\R\bin\R.exe CMD INSTALL --build --library=a4Core.buildbin-libdir --merge-multiarch a4Core_1.21.0.tar.gz && D:\biocbld\bbs-3.4-bioc\R\bin\R.exe CMD INSTALL a4Core_1.21.0.zip  && rm a4Core_1.21.0.tar.gz a4Core_1.21.0.zip
###
##############################################################################
##############################################################################
  % Total    % Received % Xferd  Average Speed   Time    Time     Time  Current
                                 Dload  Upload   Total   Spent    Left  Speed
  0     0    0     0    0     0      0      0 --:--:-- --:--:-- --:--:--     0
100  3614  100  3614    0     0   339k      0 --:--:-- --:--:-- --:--:--  504k
install for i386
* installing *source* package 'a4Core' ...
** R
** inst
** preparing package for lazy loading
** help
*** installing help indices
** building package indices
** testing if installed package can be loaded
install for x64
* installing *source* package 'a4Core' ...
** testing if installed package can be loaded
* MD5 sums
packaged installation of 'a4Core' as a4Core_1.21.0.zip
* DONE (a4Core)
* installing to library 'D:/biocbld/bbs-3.4-bioc/R/library'
package 'a4Core' successfully unpacked and MD5 sums checked