| VariantAnnotation 1.19.10 Valerie Obenchain
 
 | Snapshot Date: 2016-09-19 19:15:14 -0700 (Mon, 19 Sep 2016) |  | URL: https://hedgehog.fhcrc.org/bioconductor/trunk/madman/Rpacks/VariantAnnotation |  | Last Changed Rev: 120245 / Revision: 121152 |  | Last Changed Date: 2016-08-18 07:17:50 -0700 (Thu, 18 Aug 2016) | 
 | zin1 | Linux (Ubuntu 16.04 LTS) / x86_64 | OK | [ OK ] | WARNINGS |  |  | 
| moscato1 | Windows Server 2008 R2 Standard (64-bit) / x64 | OK | OK | WARNINGS | OK |  | 
| morelia | Mac OS X Mavericks (10.9.5) / x86_64 | OK | OK | WARNINGS | OK |  | 
##############################################################################
##############################################################################
###
### Running command:
###
###   /home/biocbuild/bbs-3.4-bioc/R/bin/R CMD build --keep-empty-dirs --no-resave-data VariantAnnotation
###
##############################################################################
##############################################################################
* checking for file ‘VariantAnnotation/DESCRIPTION’ ... OK
* preparing ‘VariantAnnotation’:
* checking DESCRIPTION meta-information ... OK
* cleaning src
* installing the package to build vignettes
* creating vignettes ... OK
* cleaning src
* checking for LF line-endings in source and make files
* checking for empty or unneeded directories
* building ‘VariantAnnotation_1.19.10.tar.gz’