| TCGAbiolinks 2.2.10 Antonio Colaprico
 
 | Snapshot Date: 2017-04-14 17:17:13 -0400 (Fri, 14 Apr 2017) |  | URL: https://hedgehog.fhcrc.org/bioconductor/branches/RELEASE_3_4/madman/Rpacks/TCGAbiolinks |  | Last Changed Rev: 127636 / Revision: 128728 |  | Last Changed Date: 2017-03-22 18:20:19 -0400 (Wed, 22 Mar 2017) | 
 | malbec1 | Linux (Ubuntu 16.04.1 LTS) / x86_64 | OK | OK | OK |  |  | 
| tokay1 | Windows Server 2012 R2 Standard / x64 | OK | OK | TIMEOUT | [ OK ] |  | 
| morelia | Mac OS X Mavericks (10.9.5) / x86_64 | OK | OK | OK | OK |  | 
##############################################################################
##############################################################################
###
### Running command:
###
###   cd TCGAbiolinks.buildbin-libdir/TCGAbiolinks && zip -r ../../TCGAbiolinks_2.2.10.zip . & cd ../..
###
##############################################################################
##############################################################################
  adding: CITATION (284 bytes security) (deflated 71%)
  adding: data/ (324 bytes security) (stored 0%)
  adding: data/datalist (284 bytes security) (deflated 29%)
  adding: data/Rdata.rdb (284 bytes security) (deflated 1%)
  adding: data/Rdata.rds (284 bytes security) (stored 0%)
  adding: data/Rdata.rdx (284 bytes security) (stored 0%)
  adding: DESCRIPTION (284 bytes security) (deflated 48%)
  adding: doc/ (324 bytes security) (stored 0%)
  adding: doc/clinical.html (284 bytes security) (deflated 64%)
  adding: doc/clinical.R (284 bytes security) (deflated 77%)
  adding: doc/clinical.Rmd (284 bytes security) (deflated 70%)
  adding: doc/download_prepare.html (284 bytes security) (deflated 62%)
  adding: doc/download_prepare.R (284 bytes security) (deflated 67%)
  adding: doc/download_prepare.Rmd (284 bytes security) (deflated 62%)
  adding: doc/index.html (284 bytes security) (deflated 62%)
  adding: doc/index.R (284 bytes security) (deflated 62%)
  adding: doc/index.Rmd (284 bytes security) (deflated 49%)
  adding: doc/mutation.html (284 bytes security) (deflated 62%)
  adding: doc/mutation.R (284 bytes security) (deflated 75%)
  adding: doc/mutation.Rmd (284 bytes security) (deflated 68%)
  adding: doc/query.html (284 bytes security) (deflated 63%)
  adding: doc/query.R (284 bytes security) (deflated 80%)
  adding: doc/query.Rmd (284 bytes security) (deflated 78%)
  adding: doc/tcgaBiolinks.html (284 bytes security) (deflated 31%)
  adding: doc/tcgaBiolinks.R (284 bytes security) (deflated 83%)
  adding: doc/tcgaBiolinks.Rmd (284 bytes security) (deflated 77%)
  adding: help/ (324 bytes security) (stored 0%)
  adding: help/aliases.rds (284 bytes security) (stored 0%)
  adding: help/AnIndex (284 bytes security) (deflated 71%)
  adding: help/paths.rds (284 bytes security) (stored 0%)
  adding: help/TCGAbiolinks.rdb (284 bytes security) (deflated 2%)
  adding: help/TCGAbiolinks.rdx (284 bytes security) (stored 0%)
  adding: html/ (324 bytes security) (stored 0%)
  adding: html/00Index.html (284 bytes security) (deflated 75%)
  adding: html/R.css (284 bytes security) (deflated 75%)
  adding: INDEX (284 bytes security) (deflated 68%)
  adding: MD5 (284 bytes security) (deflated 47%)
  adding: Meta/ (324 bytes security) (stored 0%)
  adding: Meta/data.rds (284 bytes security) (stored 0%)
  adding: Meta/hsearch.rds (284 bytes security) (stored 0%)
  adding: Meta/links.rds (284 bytes security) (stored 0%)
  adding: Meta/nsInfo.rds (284 bytes security) (stored 0%)
  adding: Meta/package.rds (284 bytes security) (stored 0%)
  adding: Meta/Rd.rds (284 bytes security) (stored 0%)
  adding: Meta/vignette.rds (284 bytes security) (stored 0%)
  adding: NAMESPACE (284 bytes security) (deflated 72%)
  adding: NEWS (284 bytes security) (deflated 66%)
  adding: R/ (324 bytes security) (stored 0%)
  adding: R/sysdata.rdb (284 bytes security) (deflated 0%)
  adding: R/sysdata.rdx (284 bytes security) (stored 0%)
  adding: R/TCGAbiolinks (284 bytes security) (deflated 41%)
  adding: R/TCGAbiolinks.rdb (284 bytes security) (deflated 1%)
  adding: R/TCGAbiolinks.rdx (284 bytes security) (stored 0%)