| SPIA 2.25.0 Adi Laurentiu Tarca
 
 | Snapshot Date: 2016-09-19 19:15:14 -0700 (Mon, 19 Sep 2016) |  | URL: https://hedgehog.fhcrc.org/bioconductor/trunk/madman/Rpacks/SPIA |  | Last Changed Rev: 117081 / Revision: 121152 |  | Last Changed Date: 2016-05-03 14:30:44 -0700 (Tue, 03 May 2016) | 
 | zin1 | Linux (Ubuntu 16.04 LTS) / x86_64 | OK | OK | OK |  |  | 
| moscato1 | Windows Server 2008 R2 Standard (64-bit) / x64 | OK | OK | OK | [ OK ] |  | 
| morelia | Mac OS X Mavericks (10.9.5) / x86_64 | OK | OK | OK | OK |  | 
##############################################################################
##############################################################################
###
### Running command:
###
###   cd SPIA.buildbin-libdir/SPIA && zip -r ../../SPIA_2.25.0.zip . & cd ../..
###
##############################################################################
##############################################################################
  adding: data/ (208 bytes security) (stored 0%)
  adding: data/colorectalcancer.RData (188 bytes security) (deflated 0%)
  adding: data/Vessels.RData (188 bytes security) (deflated 0%)
  adding: DESCRIPTION (188 bytes security) (deflated 42%)
  adding: doc/ (208 bytes security) (stored 0%)
  adding: doc/index.html (188 bytes security) (deflated 57%)
  adding: doc/SPIA.pdf (188 bytes security) (deflated 12%)
  adding: doc/SPIA.R (188 bytes security) (deflated 72%)
  adding: doc/SPIA.Rnw (188 bytes security) (deflated 64%)
  adding: extdata/ (208 bytes security) (stored 0%)
  adding: extdata/hsaSPIA.RData (188 bytes security) (deflated 59%)
  adding: extdata/keggxml/ (208 bytes security) (stored 0%)
  adding: extdata/keggxml/hsa/ (208 bytes security) (stored 0%)
  adding: extdata/keggxml/hsa/hsa03013.xml (188 bytes security) (deflated 88%)
  adding: extdata/keggxml/hsa/hsa03050.xml (188 bytes security) (deflated 86%)
  adding: extdata/keggxml/hsa/hsa04914.xml (188 bytes security) (deflated 84%)
  adding: extdata/keggxml/hsa/hsa05210.xml (188 bytes security) (deflated 87%)
  adding: extdata/mmuSPIA.RData (188 bytes security) (deflated 62%)
  adding: help/ (208 bytes security) (stored 0%)
  adding: help/aliases.rds (188 bytes security) (stored 0%)
  adding: help/AnIndex (188 bytes security) (deflated 53%)
  adding: help/paths.rds (188 bytes security) (stored 0%)
  adding: help/SPIA.rdb (188 bytes security) (deflated 0%)
  adding: help/SPIA.rdx (188 bytes security) (stored 0%)
  adding: html/ (208 bytes security) (stored 0%)
  adding: html/00Index.html (188 bytes security) (deflated 70%)
  adding: html/R.css (188 bytes security) (deflated 75%)
  adding: INDEX (188 bytes security) (deflated 57%)
  adding: LICENSE (188 bytes security) (deflated 39%)
  adding: MD5 (188 bytes security) (deflated 44%)
  adding: Meta/ (208 bytes security) (stored 0%)
  adding: Meta/data.rds (188 bytes security) (stored 0%)
  adding: Meta/hsearch.rds (188 bytes security) (stored 0%)
  adding: Meta/links.rds (188 bytes security) (stored 0%)
  adding: Meta/nsInfo.rds (188 bytes security) (stored 0%)
  adding: Meta/package.rds (188 bytes security) (stored 0%)
  adding: Meta/Rd.rds (188 bytes security) (stored 0%)
  adding: Meta/vignette.rds (188 bytes security) (stored 0%)
  adding: NAMESPACE (188 bytes security) (deflated 38%)
  adding: R/ (208 bytes security) (stored 0%)
  adding: R/SPIA (188 bytes security) (deflated 41%)
  adding: R/SPIA.rdb (188 bytes security) (deflated 2%)
  adding: R/SPIA.rdx (188 bytes security) (stored 0%)