PREDA 1.20.0 Francesco Ferrari
 | Snapshot Date: 2017-04-14 17:17:13 -0400 (Fri, 14 Apr 2017) |  | URL: https://hedgehog.fhcrc.org/bioconductor/branches/RELEASE_3_4/madman/Rpacks/PREDA |  | Last Changed Rev: 123126 / Revision: 128728 |  | Last Changed Date: 2016-10-27 18:01:32 -0400 (Thu, 27 Oct 2016) |  
  | malbec1  | Linux (Ubuntu 16.04.1 LTS) / x86_64  |  OK  |  OK  |  OK  |  |   | 
| tokay1  | Windows Server 2012 R2 Standard / x64  |  OK  |  OK  |  OK  |  OK  |   | 
| morelia  | Mac OS X Mavericks (10.9.5) / x86_64  | [ OK ] |  OK  |  OK  |  OK  |   | 
##############################################################################
##############################################################################
###
### Running command:
###
###   /Library/Frameworks/R.framework/Versions/Current/Resources/bin/R CMD INSTALL PREDA
###
##############################################################################
##############################################################################
* installing to library ‘/Library/Frameworks/R.framework/Versions/3.3/Resources/library’
* installing *source* package ‘PREDA’ ...
** R
** preparing package for lazy loading
** help
*** installing help indices
** building package indices
** installing vignettes
** testing if installed package can be loaded
* DONE (PREDA)