| OTUbase 1.24.0 Daniel Beck
 
 | Snapshot Date: 2017-04-14 17:17:13 -0400 (Fri, 14 Apr 2017) |  | URL: https://hedgehog.fhcrc.org/bioconductor/branches/RELEASE_3_4/madman/Rpacks/OTUbase |  | Last Changed Rev: 122710 / Revision: 128728 |  | Last Changed Date: 2016-10-17 14:45:06 -0400 (Mon, 17 Oct 2016) | 
 | malbec1 | Linux (Ubuntu 16.04.1 LTS) / x86_64 | OK | OK | OK |  |  | 
| tokay1 | Windows Server 2012 R2 Standard / x64 | OK | OK | OK | [ OK ] |  | 
| morelia | Mac OS X Mavericks (10.9.5) / x86_64 | OK | OK | OK | OK |  | 
##############################################################################
##############################################################################
###
### Running command:
###
###   cd OTUbase.buildbin-libdir/OTUbase && zip -r ../../OTUbase_1.24.0.zip . & cd ../..
###
##############################################################################
##############################################################################
  adding: DESCRIPTION (284 bytes security) (deflated 34%)
  adding: doc/ (324 bytes security) (stored 0%)
  adding: doc/index.html (284 bytes security) (deflated 59%)
  adding: doc/Introduction_to_OTUbase.pdf (284 bytes security) (deflated 9%)
  adding: doc/Introduction_to_OTUbase.R (284 bytes security) (deflated 78%)
  adding: doc/Introduction_to_OTUbase.Rnw (284 bytes security) (deflated 63%)
  adding: extdata/ (324 bytes security) (stored 0%)
  adding: extdata/Sogin_2006/ (324 bytes security) (stored 0%)
  adding: extdata/Sogin_2006/sample_metadata.txt (284 bytes security) (deflated 47%)
  adding: extdata/Sogin_2006/sogin.fasta (284 bytes security) (deflated 82%)
  adding: extdata/Sogin_2006/sogin.groups (284 bytes security) (deflated 72%)
  adding: extdata/Sogin_2006/sogin.names (284 bytes security) (deflated 73%)
  adding: extdata/Sogin_2006/sogin.rep.fix.tax (284 bytes security) (deflated 83%)
  adding: extdata/Sogin_2006/sogin.unique.filter.fn.0.03.rep.fasta (284 bytes security) (deflated 74%)
  adding: extdata/Sogin_2006/sogin.unique.filter.fn.list (284 bytes security) (deflated 95%)
  adding: extdata/Sogin_2006/sogin.unique.fix.tax (284 bytes security) (deflated 84%)
  adding: help/ (324 bytes security) (stored 0%)
  adding: help/aliases.rds (284 bytes security) (stored 0%)
  adding: help/AnIndex (284 bytes security) (deflated 82%)
  adding: help/OTUbase.rdb (284 bytes security) (deflated 1%)
  adding: help/OTUbase.rdx (284 bytes security) (stored 0%)
  adding: help/paths.rds (284 bytes security) (stored 0%)
  adding: html/ (324 bytes security) (stored 0%)
  adding: html/00Index.html (284 bytes security) (deflated 88%)
  adding: html/R.css (284 bytes security) (deflated 75%)
  adding: INDEX (284 bytes security) (deflated 63%)
  adding: MD5 (284 bytes security) (deflated 47%)
  adding: Meta/ (324 bytes security) (stored 0%)
  adding: Meta/hsearch.rds (284 bytes security) (stored 0%)
  adding: Meta/links.rds (284 bytes security) (stored 0%)
  adding: Meta/nsInfo.rds (284 bytes security) (stored 0%)
  adding: Meta/package.rds (284 bytes security) (stored 0%)
  adding: Meta/Rd.rds (284 bytes security) (stored 0%)
  adding: Meta/vignette.rds (284 bytes security) (stored 0%)
  adding: NAMESPACE (284 bytes security) (deflated 55%)
  adding: R/ (324 bytes security) (stored 0%)
  adding: R/OTUbase (284 bytes security) (deflated 41%)
  adding: R/OTUbase.rdb (284 bytes security) (deflated 33%)
  adding: R/OTUbase.rdx (284 bytes security) (deflated 2%)