| MSnbase 2.0.2 Laurent Gatto
 
 | Snapshot Date: 2017-04-14 17:17:13 -0400 (Fri, 14 Apr 2017) |  | URL: https://hedgehog.fhcrc.org/bioconductor/branches/RELEASE_3_4/madman/Rpacks/MSnbase |  | Last Changed Rev: 125635 / Revision: 128728 |  | Last Changed Date: 2017-01-04 08:17:27 -0500 (Wed, 04 Jan 2017) | 
 | malbec1 | Linux (Ubuntu 16.04.1 LTS) / x86_64 | OK | OK | ERROR |  |  | 
| tokay1 | Windows Server 2012 R2 Standard / x64 | OK | OK | OK | OK |  | 
| morelia | Mac OS X Mavericks (10.9.5) / x86_64 | OK | OK | [ OK ] | OK |  | 
##############################################################################
##############################################################################
###
### Running command:
###
###   /Library/Frameworks/R.framework/Versions/Current/Resources/bin/R CMD check --no-vignettes --timings MSnbase_2.0.2.tar.gz
###
##############################################################################
##############################################################################
* using log directory ‘/Users/biocbuild/bbs-3.4-bioc/meat/MSnbase.Rcheck’
* using R version 3.3.3 (2017-03-06)
* using platform: x86_64-apple-darwin13.4.0 (64-bit)
* using session charset: UTF-8
* using option ‘--no-vignettes’
* checking for file ‘MSnbase/DESCRIPTION’ ... OK
* this is package ‘MSnbase’ version ‘2.0.2’
* checking package namespace information ... OK
* checking package dependencies ... OK
* checking if this is a source package ... OK
* checking if there is a namespace ... OK
* checking for hidden files and directories ... OK
* checking for portable file names ... OK
* checking for sufficient/correct file permissions ... OK
* checking whether package ‘MSnbase’ can be installed ... OK
* checking installed package size ... NOTE
  installed size is  6.2Mb
  sub-directories of 1Mb or more:
    data   1.9Mb
    doc    2.4Mb
* checking package directory ... OK
* checking ‘build’ directory ... OK
* checking DESCRIPTION meta-information ... OK
* checking top-level files ... OK
* checking for left-over files ... OK
* checking index information ... OK
* checking package subdirectories ... OK
* checking R files for non-ASCII characters ... OK
* checking R files for syntax errors ... OK
* checking whether the package can be loaded ... OK
* checking whether the package can be loaded with stated dependencies ... OK
* checking whether the package can be unloaded cleanly ... OK
* checking whether the namespace can be loaded with stated dependencies ... OK
* checking whether the namespace can be unloaded cleanly ... OK
* checking dependencies in R code ... NOTE
Unexported objects imported by ':::' calls:
  ‘Biobase:::.showAnnotatedDataFrame’ ‘MALDIquant:::.estimateNoise’
  ‘MALDIquant:::.localMaxima’ ‘MALDIquant:::.movingAverage’
  ‘MALDIquant:::.savitzkyGolay’ ‘MALDIquant:::.which.closest’
  See the note in ?`:::` about the use of this operator.
* checking S3 generic/method consistency ... OK
* checking replacement functions ... OK
* checking foreign function calls ... OK
* checking R code for possible problems ... OK
* checking Rd files ... OK
* checking Rd metadata ... OK
* checking Rd cross-references ... OK
* checking for missing documentation entries ... OK
* checking for code/documentation mismatches ... OK
* checking Rd \usage sections ... OK
* checking Rd contents ... OK
* checking for unstated dependencies in examples ... OK
* checking contents of ‘data’ directory ... OK
* checking data for non-ASCII characters ... OK
* checking data for ASCII and uncompressed saves ... OK
* checking line endings in C/C++/Fortran sources/headers ... OK
* checking compiled code ... OK
* checking sizes of PDF files under ‘inst/doc’ ... OK
* checking installed files from ‘inst/doc’ ... OK
* checking files in ‘vignettes’ ... OK
* checking examples ... OK
Examples with CPU or elapsed time > 5s
                     user system elapsed
OnDiskMSnExp-class 13.635  0.423  14.621
averageMSnSet       7.715  0.139   8.174
MSnSet-class        6.815  0.167   7.359
quantify-methods    2.130  0.257   8.262
MzTab-class         1.664  0.034   5.796
* checking for unstated dependencies in ‘tests’ ... OK
* checking tests ...
  Running ‘testthat.R’
 OK
* checking for unstated dependencies in vignettes ... OK
* checking package vignettes in ‘inst/doc’ ... OK
* checking running R code from vignettes ... SKIPPED
* checking re-building of vignette outputs ... SKIPPED
* checking PDF version of manual ... OK
* DONE
Status: 2 NOTEs
See
  ‘/Users/biocbuild/bbs-3.4-bioc/meat/MSnbase.Rcheck/00check.log’
for details.
 
* installing *source* package ‘MSnbase’ ...
** libs
clang++ -I/Library/Frameworks/R.framework/Resources/include -DNDEBUG  -I/usr/local/include -I/usr/local/include/freetype2 -I/opt/X11/include -I"/Library/Frameworks/R.framework/Versions/3.3/Resources/library/Rcpp/include"   -fPIC  -Wall -mtune=core2 -g -O2  -c RcppExports.cpp -o RcppExports.o
clang -I/Library/Frameworks/R.framework/Resources/include -DNDEBUG  -I/usr/local/include -I/usr/local/include/freetype2 -I/opt/X11/include -I"/Library/Frameworks/R.framework/Versions/3.3/Resources/library/Rcpp/include"   -fPIC  -Wall -mtune=core2 -g -O2  -c Spectrum1_class.c -o Spectrum1_class.o
Spectrum1_class.c:8:13: warning: unused function '_new_Spectrum1' [-Wunused-function]
static SEXP _new_Spectrum1(SEXP msLevel, SEXP peaksCount, SEXP rt,
            ^
1 warning generated.
clang -I/Library/Frameworks/R.framework/Resources/include -DNDEBUG  -I/usr/local/include -I/usr/local/include/freetype2 -I/opt/X11/include -I"/Library/Frameworks/R.framework/Versions/3.3/Resources/library/Rcpp/include"   -fPIC  -Wall -mtune=core2 -g -O2  -c Spectrum2_class.c -o Spectrum2_class.o
Spectrum2_class.c:9:13: warning: unused function '_new_Spectrum2' [-Wunused-function]
static SEXP _new_Spectrum2(SEXP msLevel, SEXP peaksCount, SEXP rt,
            ^
1 warning generated.
clang++ -I/Library/Frameworks/R.framework/Resources/include -DNDEBUG  -I/usr/local/include -I/usr/local/include/freetype2 -I/opt/X11/include -I"/Library/Frameworks/R.framework/Versions/3.3/Resources/library/Rcpp/include"   -fPIC  -Wall -mtune=core2 -g -O2  -c imp_neighbour_avg.cpp -o imp_neighbour_avg.o
clang -I/Library/Frameworks/R.framework/Resources/include -DNDEBUG  -I/usr/local/include -I/usr/local/include/freetype2 -I/opt/X11/include -I"/Library/Frameworks/R.framework/Versions/3.3/Resources/library/Rcpp/include"   -fPIC  -Wall -mtune=core2 -g -O2  -c utils.c -o utils.o
utils.c:92:15: warning: unused variable 'ret' [-Wunused-variable]
  int i1, i2, ret;
              ^
utils.c:107:15: warning: unused variable 'ret' [-Wunused-variable]
  int i1, i2, ret;
              ^
utils.c:123:18: warning: unused variable 'ret' [-Wunused-variable]
  double d1, d2, ret;
                 ^
utils.c:133:18: warning: unused variable 'ret' [-Wunused-variable]
  double d1, d2, ret;
                 ^
utils.c:121:12: warning: unused function 'compar_double_asc_order' [-Wunused-function]
static int compar_double_asc_order(const void *p1, const void *p2)
           ^
utils.c:131:12: warning: unused function 'compar_double_desc_order' [-Wunused-function]
static int compar_double_desc_order(const void *p1, const void *p2)
           ^
6 warnings generated.
clang++ -dynamiclib -Wl,-headerpad_max_install_names -undefined dynamic_lookup -single_module -multiply_defined suppress -L/Library/Frameworks/R.framework/Resources/lib -L/usr/local/lib -o MSnbase.so RcppExports.o Spectrum1_class.o Spectrum2_class.o imp_neighbour_avg.o utils.o -F/Library/Frameworks/R.framework/.. -framework R -Wl,-framework -Wl,CoreFoundation
installing to /Users/biocbuild/bbs-3.4-bioc/meat/MSnbase.Rcheck/MSnbase/libs
** R
** data
*** moving datasets to lazyload DB
Creating a new generic function for ‘smooth’ in package ‘MSnbase’
Creating a new generic function for ‘trimws’ in package ‘MSnbase’
in method for ‘coerce’ with signature ‘"IBSpectra","MSnSet"’: no definition for class “IBSpectra”
** inst
** preparing package for lazy loading
Creating a new generic function for ‘smooth’ in package ‘MSnbase’
Creating a new generic function for ‘trimws’ in package ‘MSnbase’
in method for ‘coerce’ with signature ‘"IBSpectra","MSnSet"’: no definition for class “IBSpectra”
** help
*** installing help indices
** building package indices
** installing vignettes
** testing if installed package can be loaded
* DONE (MSnbase)