GenomicInteractions 1.8.1 Malcolm Perry
 | Snapshot Date: 2017-04-14 17:17:13 -0400 (Fri, 14 Apr 2017) |  | URL: https://hedgehog.fhcrc.org/bioconductor/branches/RELEASE_3_4/madman/Rpacks/GenomicInteractions |  | Last Changed Rev: 125251 / Revision: 128728 |  | Last Changed Date: 2016-12-16 12:38:56 -0500 (Fri, 16 Dec 2016) |  
  | malbec1  | Linux (Ubuntu 16.04.1 LTS) / x86_64  |  OK  |  OK  |  OK  |  |   | 
| tokay1  | Windows Server 2012 R2 Standard / x64  |  OK  | [ OK ] |  WARNINGS  |  OK  |   | 
| morelia  | Mac OS X Mavericks (10.9.5) / x86_64  |  OK  |  OK  |  OK  |  OK  |   | 
##############################################################################
##############################################################################
###
### Running command:
###
###   chmod a+r GenomicInteractions -R && C:\Users\biocbuild\bbs-3.4-bioc\R\bin\R.exe CMD build --keep-empty-dirs --no-resave-data GenomicInteractions
###
##############################################################################
##############################################################################
* checking for file 'GenomicInteractions/DESCRIPTION' ... OK
* preparing 'GenomicInteractions':
* checking DESCRIPTION meta-information ... OK
* installing the package to build vignettes
* creating vignettes ... OK
* checking for LF line-endings in source and make files
* checking for empty or unneeded directories
* looking to see if a 'data/datalist' file should be added
* building 'GenomicInteractions_1.8.1.tar.gz'