| GenomicFiles 1.10.3 Bioconductor Package Maintainer
 
 | Snapshot Date: 2017-04-14 17:17:13 -0400 (Fri, 14 Apr 2017) |  | URL: https://hedgehog.fhcrc.org/bioconductor/branches/RELEASE_3_4/madman/Rpacks/GenomicFiles |  | Last Changed Rev: 122877 / Revision: 128728 |  | Last Changed Date: 2016-10-20 12:45:48 -0400 (Thu, 20 Oct 2016) | 
 | malbec1 | Linux (Ubuntu 16.04.1 LTS) / x86_64 | OK | OK | OK |  |  | 
| tokay1 | Windows Server 2012 R2 Standard / x64 | [ OK ] | OK | OK | OK |  | 
| morelia | Mac OS X Mavericks (10.9.5) / x86_64 | OK | OK | OK | OK |  | 
##############################################################################
##############################################################################
###
### Running command:
###
###   rm -rf GenomicFiles.buildbin-libdir && mkdir GenomicFiles.buildbin-libdir  && C:\cygwin\bin\curl.exe -O http://172.29.0.3/BBS/3.4/bioc/src/contrib/GenomicFiles_1.10.3.tar.gz && C:\Users\biocbuild\bbs-3.4-bioc\R\bin\R.exe CMD INSTALL --build --library=GenomicFiles.buildbin-libdir --merge-multiarch GenomicFiles_1.10.3.tar.gz && C:\Users\biocbuild\bbs-3.4-bioc\R\bin\R.exe CMD INSTALL GenomicFiles_1.10.3.zip  && rm GenomicFiles_1.10.3.tar.gz GenomicFiles_1.10.3.zip
###
##############################################################################
##############################################################################
  % Total    % Received % Xferd  Average Speed   Time    Time     Time  Current
                                 Dload  Upload   Total   Spent    Left  Speed
  0     0    0     0    0     0      0      0 --:--:-- --:--:-- --:--:--     0
100  288k  100  288k    0     0  3013k      0 --:--:-- --:--:-- --:--:-- 3035k
install for i386
* installing *source* package 'GenomicFiles' ...
** R
** inst
** preparing package for lazy loading
** help
*** installing help indices
** building package indices
** installing vignettes
** testing if installed package can be loaded
install for x64
* installing *source* package 'GenomicFiles' ...
** testing if installed package can be loaded
* MD5 sums
packaged installation of 'GenomicFiles' as GenomicFiles_1.10.3.zip
* DONE (GenomicFiles)
* installing to library 'C:/Users/biocbuild/bbs-3.4-bioc/R/library'
package 'GenomicFiles' successfully unpacked and MD5 sums checked