GenomeInfoDb 1.10.3 Bioconductor Package Maintainer
 | Snapshot Date: 2017-04-14 17:17:13 -0400 (Fri, 14 Apr 2017) |  | URL: https://hedgehog.fhcrc.org/bioconductor/branches/RELEASE_3_4/madman/Rpacks/GenomeInfoDb |  | Last Changed Rev: 126489 / Revision: 128728 |  | Last Changed Date: 2017-02-06 15:32:38 -0500 (Mon, 06 Feb 2017) |  
  | malbec1  | Linux (Ubuntu 16.04.1 LTS) / x86_64  |  OK  |  OK  |  OK  |  |   | 
| tokay1  | Windows Server 2012 R2 Standard / x64  | [ OK ] |  OK  |  OK  |  OK  |   | 
| morelia  | Mac OS X Mavericks (10.9.5) / x86_64  |  OK  |  OK  |  OK  |  OK  |   | 
##############################################################################
##############################################################################
###
### Running command:
###
###   rm -rf GenomeInfoDb.buildbin-libdir && mkdir GenomeInfoDb.buildbin-libdir  && C:\cygwin\bin\curl.exe -O http://172.29.0.3/BBS/3.4/bioc/src/contrib/GenomeInfoDb_1.10.3.tar.gz && C:\Users\biocbuild\bbs-3.4-bioc\R\bin\R.exe CMD INSTALL --build --library=GenomeInfoDb.buildbin-libdir --merge-multiarch GenomeInfoDb_1.10.3.tar.gz && C:\Users\biocbuild\bbs-3.4-bioc\R\bin\R.exe CMD INSTALL GenomeInfoDb_1.10.3.zip  && rm GenomeInfoDb_1.10.3.tar.gz GenomeInfoDb_1.10.3.zip
###
##############################################################################
##############################################################################
  % Total    % Received % Xferd  Average Speed   Time    Time     Time  Current
                                 Dload  Upload   Total   Spent    Left  Speed
  0     0    0     0    0     0      0      0 --:--:-- --:--:-- --:--:--     0
 40 13.6M   40 5691k    0     0  22.4M      0 --:--:-- --:--:-- --:--:-- 22.4M
100 13.6M  100 13.6M    0     0  30.5M      0 --:--:-- --:--:-- --:--:-- 30.5M
install for i386
* installing *source* package 'GenomeInfoDb' ...
** R
** data
** inst
** preparing package for lazy loading
** help
*** installing help indices
** building package indices
** installing vignettes
** testing if installed package can be loaded
install for x64
* installing *source* package 'GenomeInfoDb' ...
** testing if installed package can be loaded
* MD5 sums
packaged installation of 'GenomeInfoDb' as GenomeInfoDb_1.10.3.zip
* DONE (GenomeInfoDb)
* installing to library 'C:/Users/biocbuild/bbs-3.4-bioc/R/library'
package 'GenomeInfoDb' successfully unpacked and MD5 sums checked