| DOSE 2.11.11 Guangchuang Yu
 
 | Snapshot Date: 2016-09-19 19:15:14 -0700 (Mon, 19 Sep 2016) |  | URL: https://hedgehog.fhcrc.org/bioconductor/trunk/madman/Rpacks/DOSE |  | Last Changed Rev: 121120 / Revision: 121152 |  | Last Changed Date: 2016-09-19 02:21:17 -0700 (Mon, 19 Sep 2016) | 
 | zin1 | Linux (Ubuntu 16.04 LTS) / x86_64 | OK | OK | OK |  |  | 
| moscato1 | Windows Server 2008 R2 Standard (64-bit) / x64 | OK | OK | OK | [ OK ] |  | 
| morelia | Mac OS X Mavericks (10.9.5) / x86_64 | OK | OK | OK | OK |  | 
##############################################################################
##############################################################################
###
### Running command:
###
###   cd DOSE.buildbin-libdir/DOSE && zip -r ../../DOSE_2.11.11.zip . & cd ../..
###
##############################################################################
##############################################################################
  adding: CITATION (188 bytes security) (deflated 57%)
  adding: data/ (208 bytes security) (stored 0%)
  adding: data/datalist (188 bytes security) (deflated 53%)
  adding: data/DGN_EXTID2PATHID.rda (188 bytes security) (deflated 0%)
  adding: data/DGN_PATHID2EXTID.rda (188 bytes security) (deflated 0%)
  adding: data/DGN_PATHID2NAME.rda (188 bytes security) (deflated 0%)
  adding: data/DO2ALLEG.rda (188 bytes security) (deflated 0%)
  adding: data/DO2EG.rda (188 bytes security) (deflated 0%)
  adding: data/DOIC.rda (188 bytes security) (stored 0%)
  adding: data/DOLite2EG.rda (188 bytes security) (deflated 0%)
  adding: data/DOLiteTerm.rda (188 bytes security) (stored 0%)
  adding: data/dotbl.rda (188 bytes security) (stored 0%)
  adding: data/EG2ALLDO.rda (188 bytes security) (deflated 0%)
  adding: data/EG2DO.rda (188 bytes security) (deflated 0%)
  adding: data/EG2DOLite.rda (188 bytes security) (stored 0%)
  adding: data/geneList.rda (188 bytes security) (deflated 0%)
  adding: data/NCG_EXTID2PATHID.rda (188 bytes security) (stored 0%)
  adding: data/NCG_PATHID2EXTID.rda (188 bytes security) (stored 0%)
  adding: data/NCG_PATHID2NAME.rda (188 bytes security) (stored 0%)
  adding: data/VDGN_EXTID2PATHID.rda (188 bytes security) (deflated 0%)
  adding: data/VDGN_PATHID2EXTID.rda (188 bytes security) (deflated 0%)
  adding: data/VDGN_PATHID2NAME.rda (188 bytes security) (deflated 0%)
  adding: DESCRIPTION (188 bytes security) (deflated 49%)
  adding: doc/ (208 bytes security) (stored 0%)
  adding: doc/DOSE.html (188 bytes security) (deflated 61%)
  adding: doc/DOSE.R (188 bytes security) (deflated 58%)
  adding: doc/DOSE.Rmd (188 bytes security) (deflated 52%)
  adding: doc/enrichmentAnalysis.html (188 bytes security) (deflated 28%)
  adding: doc/enrichmentAnalysis.R (188 bytes security) (deflated 68%)
  adding: doc/enrichmentAnalysis.Rmd (188 bytes security) (deflated 59%)
  adding: doc/GSEA.html (188 bytes security) (deflated 30%)
  adding: doc/GSEA.R (188 bytes security) (deflated 71%)
  adding: doc/GSEA.Rmd (188 bytes security) (deflated 59%)
  adding: doc/index.html (188 bytes security) (deflated 75%)
  adding: doc/semanticAnalysis.html (188 bytes security) (deflated 48%)
  adding: doc/semanticAnalysis.R (188 bytes security) (deflated 67%)
  adding: doc/semanticAnalysis.Rmd (188 bytes security) (deflated 59%)
  adding: extdata/ (208 bytes security) (stored 0%)
  adding: extdata/build_DGN_Anno.R (188 bytes security) (deflated 69%)
  adding: extdata/build_NCG_Anno.R (188 bytes security) (deflated 54%)
  adding: help/ (208 bytes security) (stored 0%)
  adding: help/aliases.rds (188 bytes security) (stored 0%)
  adding: help/AnIndex (188 bytes security) (deflated 74%)
  adding: help/DOSE.rdb (188 bytes security) (deflated 3%)
  adding: help/DOSE.rdx (188 bytes security) (stored 0%)
  adding: help/paths.rds (188 bytes security) (stored 0%)
  adding: html/ (208 bytes security) (stored 0%)
  adding: html/00Index.html (188 bytes security) (deflated 83%)
  adding: html/R.css (188 bytes security) (deflated 75%)
  adding: INDEX (188 bytes security) (deflated 68%)
  adding: MD5 (188 bytes security) (deflated 48%)
  adding: Meta/ (208 bytes security) (stored 0%)
  adding: Meta/data.rds (188 bytes security) (stored 0%)
  adding: Meta/hsearch.rds (188 bytes security) (stored 0%)
  adding: Meta/links.rds (188 bytes security) (stored 0%)
  adding: Meta/nsInfo.rds (188 bytes security) (stored 0%)
  adding: Meta/package.rds (188 bytes security) (stored 0%)
  adding: Meta/Rd.rds (188 bytes security) (stored 0%)
  adding: Meta/vignette.rds (188 bytes security) (stored 0%)
  adding: NAMESPACE (188 bytes security) (deflated 75%)
  adding: NEWS (188 bytes security) (deflated 70%)
  adding: R/ (208 bytes security) (stored 0%)
  adding: R/DOSE (188 bytes security) (deflated 41%)
  adding: R/DOSE.rdb (188 bytes security) (deflated 24%)
  adding: R/DOSE.rdx (188 bytes security) (stored 0%)