| DBChIP 1.18.0 Kun Liang
 
 | Snapshot Date: 2017-04-14 17:17:13 -0400 (Fri, 14 Apr 2017) |  | URL: https://hedgehog.fhcrc.org/bioconductor/branches/RELEASE_3_4/madman/Rpacks/DBChIP |  | Last Changed Rev: 122710 / Revision: 128728 |  | Last Changed Date: 2016-10-17 14:45:06 -0400 (Mon, 17 Oct 2016) | 
 | malbec1 | Linux (Ubuntu 16.04.1 LTS) / x86_64 | OK | OK | OK |  |  | 
| tokay1 | Windows Server 2012 R2 Standard / x64 | [ OK ] | OK | OK | OK |  | 
| morelia | Mac OS X Mavericks (10.9.5) / x86_64 | OK | OK | OK | OK |  | 
##############################################################################
##############################################################################
###
### Running command:
###
###   rm -rf DBChIP.buildbin-libdir && mkdir DBChIP.buildbin-libdir  && C:\cygwin\bin\curl.exe -O http://172.29.0.3/BBS/3.4/bioc/src/contrib/DBChIP_1.18.0.tar.gz && C:\Users\biocbuild\bbs-3.4-bioc\R\bin\R.exe CMD INSTALL --build --library=DBChIP.buildbin-libdir --merge-multiarch DBChIP_1.18.0.tar.gz && C:\Users\biocbuild\bbs-3.4-bioc\R\bin\R.exe CMD INSTALL DBChIP_1.18.0.zip  && rm DBChIP_1.18.0.tar.gz DBChIP_1.18.0.zip
###
##############################################################################
##############################################################################
  % Total    % Received % Xferd  Average Speed   Time    Time     Time  Current
                                 Dload  Upload   Total   Spent    Left  Speed
  0     0    0     0    0     0      0      0 --:--:-- --:--:-- --:--:--     0
100 1747k  100 1747k    0     0  30.9M      0 --:--:-- --:--:-- --:--:-- 31.6M
install for i386
* installing *source* package 'DBChIP' ...
** R
** data
** inst
** preparing package for lazy loading
** help
*** installing help indices
** building package indices
** installing vignettes
** testing if installed package can be loaded
install for x64
* installing *source* package 'DBChIP' ...
** testing if installed package can be loaded
* MD5 sums
packaged installation of 'DBChIP' as DBChIP_1.18.0.zip
* DONE (DBChIP)
* installing to library 'C:/Users/biocbuild/bbs-3.4-bioc/R/library'
package 'DBChIP' successfully unpacked and MD5 sums checked