| CAGEr 1.16.0 Vanja Haberle
 
 | Snapshot Date: 2017-04-11 17:17:07 -0400 (Tue, 11 Apr 2017) |  | URL: https://hedgehog.fhcrc.org/bioconductor/branches/RELEASE_3_4/madman/Rpacks/CAGEr |  | Last Changed Rev: 122710 / Revision: 128559 |  | Last Changed Date: 2016-10-17 14:45:06 -0400 (Mon, 17 Oct 2016) | 
 | malbec1 | Linux (Ubuntu 16.04.1 LTS) / x86_64 | OK | OK | OK |  |  | 
| tokay1 | Windows Server 2012 R2 Standard / x64 | OK | OK | OK | [ OK ] |  | 
| morelia | Mac OS X Mavericks (10.9.5) / x86_64 | OK | OK | OK | OK |  | 
##############################################################################
##############################################################################
###
### Running command:
###
###   cd CAGEr.buildbin-libdir/CAGEr && zip -r ../../CAGEr_1.16.0.zip . & cd ../..
###
##############################################################################
##############################################################################
  adding: CITATION (284 bytes security) (deflated 54%)
  adding: data/ (324 bytes security) (stored 0%)
  adding: data/exampleCAGEset.RData (284 bytes security) (deflated 0%)
  adding: data/FANTOM5humanSamples.RData (284 bytes security) (stored 0%)
  adding: data/FANTOM5mouseSamples.RData (284 bytes security) (stored 0%)
  adding: DESCRIPTION (284 bytes security) (deflated 54%)
  adding: doc/ (324 bytes security) (stored 0%)
  adding: doc/CAGEr.pdf (284 bytes security) (deflated 45%)
  adding: doc/CAGEr.R (284 bytes security) (deflated 82%)
  adding: doc/CAGEr.Rnw (284 bytes security) (deflated 70%)
  adding: doc/index.html (284 bytes security) (deflated 57%)
  adding: extdata/ (324 bytes security) (stored 0%)
  adding: extdata/Zf.30p.dome.chr17.ctss (284 bytes security) (deflated 82%)
  adding: extdata/Zf.high.chr17.ctss (284 bytes security) (deflated 82%)
  adding: extdata/Zf.prim6.rep1.chr17.ctss (284 bytes security) (deflated 81%)
  adding: extdata/Zf.prim6.rep2.chr17.ctss (284 bytes security) (deflated 81%)
  adding: extdata/Zf.unfertilized.egg.chr17.ctss (284 bytes security) (deflated 82%)
  adding: help/ (324 bytes security) (stored 0%)
  adding: help/aliases.rds (284 bytes security) (stored 0%)
  adding: help/AnIndex (284 bytes security) (deflated 79%)
  adding: help/CAGEr.rdb (284 bytes security) (deflated 1%)
  adding: help/CAGEr.rdx (284 bytes security) (stored 0%)
  adding: help/paths.rds (284 bytes security) (stored 0%)
  adding: html/ (324 bytes security) (stored 0%)
  adding: html/00Index.html (284 bytes security) (deflated 84%)
  adding: html/R.css (284 bytes security) (deflated 75%)
  adding: INDEX (284 bytes security) (deflated 70%)
  adding: MD5 (284 bytes security) (deflated 44%)
  adding: Meta/ (324 bytes security) (stored 0%)
  adding: Meta/data.rds (284 bytes security) (stored 0%)
  adding: Meta/hsearch.rds (284 bytes security) (stored 0%)
  adding: Meta/links.rds (284 bytes security) (stored 0%)
  adding: Meta/nsInfo.rds (284 bytes security) (stored 0%)
  adding: Meta/package.rds (284 bytes security) (stored 0%)
  adding: Meta/Rd.rds (284 bytes security) (stored 0%)
  adding: Meta/vignette.rds (284 bytes security) (stored 0%)
  adding: NAMESPACE (284 bytes security) (deflated 58%)
  adding: NEWS (284 bytes security) (deflated 65%)
  adding: R/ (324 bytes security) (stored 0%)
  adding: R/CAGEr (284 bytes security) (deflated 41%)
  adding: R/CAGEr.rdb (284 bytes security) (deflated 27%)
  adding: R/CAGEr.rdx (284 bytes security) (deflated 2%)