CAGEr 1.15.0 Vanja Haberle
 | Snapshot Date: 2016-09-19 19:15:14 -0700 (Mon, 19 Sep 2016) |  | URL: https://hedgehog.fhcrc.org/bioconductor/trunk/madman/Rpacks/CAGEr |  | Last Changed Rev: 117081 / Revision: 121152 |  | Last Changed Date: 2016-05-03 14:30:44 -0700 (Tue, 03 May 2016) |  
  | zin1  | Linux (Ubuntu 16.04 LTS) / x86_64  |  OK  |  OK  |  OK  |  |   | 
| moscato1  | Windows Server 2008 R2 Standard (64-bit) / x64  |  OK  |  OK  |  OK  | [ OK ] |   | 
| morelia  | Mac OS X Mavericks (10.9.5) / x86_64  |  OK  |  OK  |  OK  |  OK  |   | 
##############################################################################
##############################################################################
###
### Running command:
###
###   cd CAGEr.buildbin-libdir/CAGEr && zip -r ../../CAGEr_1.15.0.zip . & cd ../..
###
##############################################################################
##############################################################################
  adding: CITATION (188 bytes security) (deflated 54%)
  adding: data/ (208 bytes security) (stored 0%)
  adding: data/exampleCAGEset.RData (188 bytes security) (deflated 0%)
  adding: data/FANTOM5humanSamples.RData (188 bytes security) (stored 0%)
  adding: data/FANTOM5mouseSamples.RData (188 bytes security) (stored 0%)
  adding: DESCRIPTION (188 bytes security) (deflated 54%)
  adding: doc/ (208 bytes security) (stored 0%)
  adding: doc/CAGEr.pdf (188 bytes security) (deflated 45%)
  adding: doc/CAGEr.R (188 bytes security) (deflated 82%)
  adding: doc/CAGEr.Rnw (188 bytes security) (deflated 70%)
  adding: doc/index.html (188 bytes security) (deflated 57%)
  adding: extdata/ (208 bytes security) (stored 0%)
  adding: extdata/Zf.30p.dome.chr17.ctss (188 bytes security) (deflated 82%)
  adding: extdata/Zf.high.chr17.ctss (188 bytes security) (deflated 82%)
  adding: extdata/Zf.prim6.rep1.chr17.ctss (188 bytes security) (deflated 81%)
  adding: extdata/Zf.prim6.rep2.chr17.ctss (188 bytes security) (deflated 81%)
  adding: extdata/Zf.unfertilized.egg.chr17.ctss (188 bytes security) (deflated 82%)
  adding: help/ (208 bytes security) (stored 0%)
  adding: help/aliases.rds (188 bytes security) (stored 0%)
  adding: help/AnIndex (188 bytes security) (deflated 79%)
  adding: help/CAGEr.rdb (188 bytes security) (deflated 1%)
  adding: help/CAGEr.rdx (188 bytes security) (stored 0%)
  adding: help/paths.rds (188 bytes security) (stored 0%)
  adding: html/ (208 bytes security) (stored 0%)
  adding: html/00Index.html (188 bytes security) (deflated 84%)
  adding: html/R.css (188 bytes security) (deflated 75%)
  adding: INDEX (188 bytes security) (deflated 70%)
  adding: MD5 (188 bytes security) (deflated 44%)
  adding: Meta/ (208 bytes security) (stored 0%)
  adding: Meta/data.rds (188 bytes security) (stored 0%)
  adding: Meta/hsearch.rds (188 bytes security) (stored 0%)
  adding: Meta/links.rds (188 bytes security) (stored 0%)
  adding: Meta/nsInfo.rds (188 bytes security) (stored 0%)
  adding: Meta/package.rds (188 bytes security) (stored 0%)
  adding: Meta/Rd.rds (188 bytes security) (stored 0%)
  adding: Meta/vignette.rds (188 bytes security) (stored 0%)
  adding: NAMESPACE (188 bytes security) (deflated 58%)
  adding: NEWS (188 bytes security) (deflated 65%)
  adding: R/ (208 bytes security) (stored 0%)
  adding: R/CAGEr (188 bytes security) (deflated 41%)
  adding: R/CAGEr.rdb (188 bytes security) (deflated 30%)
  adding: R/CAGEr.rdx (188 bytes security) (deflated 2%)