xcms 1.49.6 Steffen Neumann
Snapshot Date: 2016-09-19 19:15:14 -0700 (Mon, 19 Sep 2016) | URL: https://hedgehog.fhcrc.org/bioconductor/trunk/madman/Rpacks/xcms | Last Changed Rev: 120725 / Revision: 121152 | Last Changed Date: 2016-09-05 04:13:31 -0700 (Mon, 05 Sep 2016) |
| zin1 | Linux (Ubuntu 16.04 LTS) / x86_64 | OK | OK | WARNINGS | | ![UNNEEDED, same version exists in internal repository UNNEEDED, same version exists in internal repository](../120px-Blue_Light_Icon.svg.png) |
moscato1 | Windows Server 2008 R2 Standard (64-bit) / x64 | OK | OK | WARNINGS | [ OK ] | ![UNNEEDED, same version exists in internal repository UNNEEDED, same version exists in internal repository](../120px-Blue_Light_Icon.svg.png) |
morelia | Mac OS X Mavericks (10.9.5) / x86_64 | OK | OK | WARNINGS | OK | ![UNNEEDED, same version exists in internal repository UNNEEDED, same version exists in internal repository](../120px-Blue_Light_Icon.svg.png) |
##############################################################################
##############################################################################
###
### Running command:
###
### cd xcms.buildbin-libdir/xcms && zip -r ../../xcms_1.49.6.zip . & cd ../..
###
##############################################################################
##############################################################################
adding: CHANGELOG (188 bytes security) (deflated 60%)
adding: CITATION (188 bytes security) (deflated 61%)
adding: DESCRIPTION (188 bytes security) (deflated 49%)
adding: doc/ (208 bytes security) (stored 0%)
adding: doc/index.html (188 bytes security) (deflated 74%)
adding: doc/xcmsDirect.pdf (188 bytes security) (deflated 9%)
adding: doc/xcmsDirect.R (188 bytes security) (deflated 70%)
adding: doc/xcmsDirect.Rnw (188 bytes security) (deflated 56%)
adding: doc/xcmsInstall.pdf (188 bytes security) (deflated 9%)
adding: doc/xcmsInstall.Rnw (188 bytes security) (deflated 61%)
adding: doc/xcmsMSn.pdf (188 bytes security) (deflated 7%)
adding: doc/xcmsMSn.R (188 bytes security) (deflated 76%)
adding: doc/xcmsMSn.Rnw (188 bytes security) (deflated 52%)
adding: doc/xcmsPreprocess.pdf (188 bytes security) (deflated 11%)
adding: doc/xcmsPreprocess.R (188 bytes security) (deflated 79%)
adding: doc/xcmsPreprocess.Rnw (188 bytes security) (deflated 63%)
adding: help/ (208 bytes security) (stored 0%)
adding: help/aliases.rds (188 bytes security) (stored 0%)
adding: help/AnIndex (188 bytes security) (deflated 82%)
adding: help/paths.rds (188 bytes security) (stored 0%)
adding: help/xcms.rdb (188 bytes security) (deflated 1%)
adding: help/xcms.rdx (188 bytes security) (deflated 2%)
adding: html/ (208 bytes security) (stored 0%)
adding: html/00Index.html (188 bytes security) (deflated 89%)
adding: html/R.css (188 bytes security) (deflated 75%)
adding: INDEX (188 bytes security) (deflated 71%)
adding: libs/ (208 bytes security) (stored 0%)
adding: libs/i386/ (208 bytes security) (stored 0%)
adding: libs/i386/xcms.dll (188 bytes security) (deflated 64%)
adding: libs/x64/ (208 bytes security) (stored 0%)
adding: libs/x64/xcms.dll (188 bytes security) (deflated 65%)
adding: LICENSE (188 bytes security) (deflated 62%)
adding: MD5 (188 bytes security) (deflated 49%)
adding: Meta/ (208 bytes security) (stored 0%)
adding: Meta/hsearch.rds (188 bytes security) (deflated 2%)
adding: Meta/links.rds (188 bytes security) (stored 0%)
adding: Meta/nsInfo.rds (188 bytes security) (stored 0%)
adding: Meta/package.rds (188 bytes security) (stored 0%)
adding: Meta/Rd.rds (188 bytes security) (stored 0%)
adding: Meta/vignette.rds (188 bytes security) (stored 0%)
adding: NAMESPACE (188 bytes security) (deflated 72%)
adding: NEWS (188 bytes security) (deflated 65%)
adding: R/ (208 bytes security) (stored 0%)
adding: R/xcms (188 bytes security) (deflated 41%)
adding: R/xcms.rdb (188 bytes security) (deflated 41%)
adding: R/xcms.rdx (188 bytes security) (deflated 3%)
adding: unitTests/ (208 bytes security) (stored 0%)
adding: unitTests/Makefile (188 bytes security) (deflated 27%)
adding: unitTests/mzQuantML_1_0_0.xsd (188 bytes security) (deflated 87%)
adding: unitTests/report.html (188 bytes security) (deflated 88%)
adding: unitTests/report.txt (188 bytes security) (deflated 83%)
adding: unitTests/reportSummary.txt (188 bytes security) (deflated 42%)
adding: unitTests/runit.absentPresent.R (188 bytes security) (deflated 85%)
adding: unitTests/runit.BiocParallel.R (188 bytes security) (deflated 54%)
adding: unitTests/runit.diffreport.R (188 bytes security) (deflated 57%)
adding: unitTests/runit.fillPeaks.R (188 bytes security) (deflated 68%)
adding: unitTests/runit.findPeaksCentWave.fitGauss.plot.R (188 bytes security) (deflated 20%)
adding: unitTests/runit.findPeaksCentWave.R (188 bytes security) (deflated 38%)
adding: unitTests/runit.findPeaksCentWaveWithIsotopeROIs.R (188 bytes security) (deflated 53%)
adding: unitTests/runit.findPeaksMassIfQuant.R (188 bytes security) (deflated 21%)
adding: unitTests/runit.getEIC.R (188 bytes security) (deflated 66%)
adding: unitTests/runit.getXcmsRaw.R (188 bytes security) (deflated 61%)
adding: unitTests/runit.group.R (188 bytes security) (deflated 54%)
adding: unitTests/runit.msms.R (188 bytes security) (deflated 65%)
adding: unitTests/runit.obiwarp.R (188 bytes security) (deflated 76%)
adding: unitTests/runit.phenoData.R (188 bytes security) (deflated 76%)
adding: unitTests/runit.ramp.R (188 bytes security) (deflated 46%)
adding: unitTests/runit.rawMat.R (188 bytes security) (deflated 23%)
adding: unitTests/runit.sampclass.R (188 bytes security) (deflated 63%)
adding: unitTests/runit.scanrage.R (188 bytes security) (deflated 78%)
adding: unitTests/runit.snames.R (188 bytes security) (deflated 50%)
adding: unitTests/runit.specDist.R (188 bytes security) (deflated 61%)
adding: unitTests/runit.splitCombine.R (188 bytes security) (deflated 72%)
adding: unitTests/runit.splitRaw.R (188 bytes security) (deflated 80%)
adding: unitTests/runit.unusedGroups.R (188 bytes security) (deflated 42%)
adding: unitTests/runit.writecdf.R (188 bytes security) (deflated 44%)
adding: unitTests/runit.writemzdata.R (188 bytes security) (deflated 77%)
adding: unitTests/runit.writemzquantml.R (188 bytes security) (deflated 31%)
adding: unitTests/runit.xcmsRawCopy.R (188 bytes security) (deflated 44%)
adding: unitTests/runit.xcmsSet.R (188 bytes security) (deflated 78%)
adding: unitTests/test_binning.R (188 bytes security) (deflated 84%)
adding: unitTests/test_do_detectFeatures_centWave.R (188 bytes security) (deflated 77%)
adding: unitTests/test_do_detectFeatures_matchedFilter.R (188 bytes security) (deflated 78%)
adding: unitTests/test_updateObject.R (188 bytes security) (deflated 42%)