| msmsEDA 1.11.0 Josep Gregori
 
 | Snapshot Date: 2016-09-19 19:15:14 -0700 (Mon, 19 Sep 2016) |  | URL: https://hedgehog.fhcrc.org/bioconductor/trunk/madman/Rpacks/msmsEDA |  | Last Changed Rev: 117081 / Revision: 121152 |  | Last Changed Date: 2016-05-03 14:30:44 -0700 (Tue, 03 May 2016) | 
 | zin1 | Linux (Ubuntu 16.04 LTS) / x86_64 | OK | OK | OK |  |  | 
| moscato1 | Windows Server 2008 R2 Standard (64-bit) / x64 | [ OK ] | OK | OK | OK |  | 
| morelia | Mac OS X Mavericks (10.9.5) / x86_64 | OK | OK | OK | OK |  | 
##############################################################################
##############################################################################
###
### Running command:
###
###   rm -rf msmsEDA.buildbin-libdir && mkdir msmsEDA.buildbin-libdir  && C:\cygwin\bin\curl.exe -O http://zin1/BBS/3.4/bioc/src/contrib/msmsEDA_1.11.0.tar.gz && D:\biocbld\bbs-3.4-bioc\R\bin\R.exe CMD INSTALL --build --library=msmsEDA.buildbin-libdir --merge-multiarch msmsEDA_1.11.0.tar.gz && D:\biocbld\bbs-3.4-bioc\R\bin\R.exe CMD INSTALL msmsEDA_1.11.0.zip  && rm msmsEDA_1.11.0.tar.gz msmsEDA_1.11.0.zip
###
##############################################################################
##############################################################################
  % Total    % Received % Xferd  Average Speed   Time    Time     Time  Current
                                 Dload  Upload   Total   Spent    Left  Speed
  0     0    0     0    0     0      0      0 --:--:-- --:--:-- --:--:--     0
100 58014  100 58014    0     0  3630k      0 --:--:-- --:--:-- --:--:-- 5150k
install for i386
* installing *source* package 'msmsEDA' ...
** R
** data
** preparing package for lazy loading
Warning in fun(libname, pkgname) :
  mzR has been built against a different Rcpp version (0.12.6)
than is installed on your system (0.12.7). This might lead to errors
when loading mzR. If you encounter such issues, please send a report,
including the output of sessionInfo() to the Bioc support forum at 
https://support.bioconductor.org/. For details see also
https://github.com/sneumann/mzR/wiki/mzR-Rcpp-compiler-linker-issue.
** help
*** installing help indices
** building package indices
** installing vignettes
** testing if installed package can be loaded
Warning in fun(libname, pkgname) :
  mzR has been built against a different Rcpp version (0.12.6)
than is installed on your system (0.12.7). This might lead to errors
when loading mzR. If you encounter such issues, please send a report,
including the output of sessionInfo() to the Bioc support forum at 
https://support.bioconductor.org/. For details see also
https://github.com/sneumann/mzR/wiki/mzR-Rcpp-compiler-linker-issue.
install for x64
* installing *source* package 'msmsEDA' ...
** testing if installed package can be loaded
Warning in fun(libname, pkgname) :
  mzR has been built against a different Rcpp version (0.12.6)
than is installed on your system (0.12.7). This might lead to errors
when loading mzR. If you encounter such issues, please send a report,
including the output of sessionInfo() to the Bioc support forum at 
https://support.bioconductor.org/. For details see also
https://github.com/sneumann/mzR/wiki/mzR-Rcpp-compiler-linker-issue.
* MD5 sums
packaged installation of 'msmsEDA' as msmsEDA_1.11.0.zip
* DONE (msmsEDA)
* installing to library 'D:/biocbld/bbs-3.4-bioc/R/library'
package 'msmsEDA' successfully unpacked and MD5 sums checked