| limma 3.29.21 Gordon Smyth
 
 | Snapshot Date: 2016-09-19 19:15:14 -0700 (Mon, 19 Sep 2016) |  | URL: https://hedgehog.fhcrc.org/bioconductor/trunk/madman/Rpacks/limma |  | Last Changed Rev: 120794 / Revision: 121152 |  | Last Changed Date: 2016-09-07 16:58:19 -0700 (Wed, 07 Sep 2016) | 
 | zin1 | Linux (Ubuntu 16.04 LTS) / x86_64 | OK | OK | OK |  |  | 
| moscato1 | Windows Server 2008 R2 Standard (64-bit) / x64 | OK | OK | OK | [ OK ] |  | 
| morelia | Mac OS X Mavericks (10.9.5) / x86_64 | OK | OK | OK | OK |  | 
##############################################################################
##############################################################################
###
### Running command:
###
###   cd limma.buildbin-libdir/limma && zip -r ../../limma_3.29.21.zip . & cd ../..
###
##############################################################################
##############################################################################
  adding: CITATION (188 bytes security) (deflated 49%)
  adding: DESCRIPTION (188 bytes security) (deflated 44%)
  adding: doc/ (208 bytes security) (stored 0%)
  adding: doc/changelog.txt (188 bytes security) (deflated 70%)
  adding: doc/index.html (188 bytes security) (deflated 44%)
  adding: doc/intro.pdf (188 bytes security) (deflated 7%)
  adding: doc/intro.Rnw (188 bytes security) (deflated 52%)
  adding: doc/usersguide.pdf (188 bytes security) (deflated 14%)
  adding: help/ (208 bytes security) (stored 0%)
  adding: help/aliases.rds (188 bytes security) (stored 0%)
  adding: help/AnIndex (188 bytes security) (deflated 71%)
  adding: help/limma.rdb (188 bytes security) (deflated 1%)
  adding: help/limma.rdx (188 bytes security) (stored 0%)
  adding: help/paths.rds (188 bytes security) (stored 0%)
  adding: html/ (208 bytes security) (stored 0%)
  adding: html/00Index.html (188 bytes security) (deflated 86%)
  adding: html/R.css (188 bytes security) (deflated 75%)
  adding: INDEX (188 bytes security) (deflated 68%)
  adding: libs/ (208 bytes security) (stored 0%)
  adding: libs/i386/ (208 bytes security) (stored 0%)
  adding: libs/i386/limma.dll (188 bytes security) (deflated 55%)
  adding: libs/x64/ (208 bytes security) (stored 0%)
  adding: libs/x64/limma.dll (188 bytes security) (deflated 55%)
  adding: MD5 (188 bytes security) (deflated 41%)
  adding: Meta/ (208 bytes security) (stored 0%)
  adding: Meta/hsearch.rds (188 bytes security) (deflated 2%)
  adding: Meta/links.rds (188 bytes security) (stored 0%)
  adding: Meta/nsInfo.rds (188 bytes security) (stored 0%)
  adding: Meta/package.rds (188 bytes security) (stored 0%)
  adding: Meta/Rd.rds (188 bytes security) (stored 0%)
  adding: Meta/vignette.rds (188 bytes security) (stored 0%)
  adding: NAMESPACE (188 bytes security) (deflated 74%)
  adding: NEWS.Rd (188 bytes security) (deflated 65%)
  adding: R/ (208 bytes security) (stored 0%)
  adding: R/limma (188 bytes security) (deflated 41%)
  adding: R/limma.rdb (188 bytes security) (deflated 6%)
  adding: R/limma.rdx (188 bytes security) (stored 0%)