fmcsR 1.15.2 Thomas Girke
Snapshot Date: 2016-09-19 19:15:14 -0700 (Mon, 19 Sep 2016) | URL: https://hedgehog.fhcrc.org/bioconductor/trunk/madman/Rpacks/fmcsR | Last Changed Rev: 117512 / Revision: 121152 | Last Changed Date: 2016-05-15 13:14:22 -0700 (Sun, 15 May 2016) |
| zin1 | Linux (Ubuntu 16.04 LTS) / x86_64 | OK | OK | OK | | ![UNNEEDED, same version exists in internal repository UNNEEDED, same version exists in internal repository](../120px-Blue_Light_Icon.svg.png) |
moscato1 | Windows Server 2008 R2 Standard (64-bit) / x64 | OK | [ ERROR ] | skipped | skipped | |
morelia | Mac OS X Mavericks (10.9.5) / x86_64 | OK | OK | OK | OK | ![UNNEEDED, same version exists in internal repository UNNEEDED, same version exists in internal repository](../120px-Blue_Light_Icon.svg.png) |
##############################################################################
##############################################################################
###
### Running command:
###
### chmod a+r fmcsR -R && D:\biocbld\bbs-3.4-bioc\R\bin\R.exe CMD build --keep-empty-dirs --no-resave-data fmcsR
###
##############################################################################
##############################################################################
* checking for file 'fmcsR/DESCRIPTION' ... OK
* preparing 'fmcsR':
* checking DESCRIPTION meta-information ... OK
* cleaning src
* installing the package to build vignettes
* creating vignettes ...Warning: running command '"D:/biocbld/bbs-3.4-bioc/R/bin/x64/Rscript" --vanilla --default-packages= -e "tools::buildVignettes(dir = '.', tangle = TRUE)"' had status 1
ERROR
Quitting from lines 44-49 (fmcsR.Rmd)
Error: processing vignette 'fmcsR.Rmd' failed with diagnostics:
there is no package called 'ChemmineOB'
Execution halted