| flowType 2.11.0 Nima Aghaeepour
 
 | Snapshot Date: 2016-09-19 19:15:14 -0700 (Mon, 19 Sep 2016) |  | URL: https://hedgehog.fhcrc.org/bioconductor/trunk/madman/Rpacks/flowType |  | Last Changed Rev: 117081 / Revision: 121152 |  | Last Changed Date: 2016-05-03 14:30:44 -0700 (Tue, 03 May 2016) | 
 | zin1 | Linux (Ubuntu 16.04 LTS) / x86_64 | OK | OK | OK |  |  | 
| moscato1 | Windows Server 2008 R2 Standard (64-bit) / x64 | [ OK ] | OK | OK | OK |  | 
| morelia | Mac OS X Mavericks (10.9.5) / x86_64 | OK | OK | WARNINGS | OK |  | 
##############################################################################
##############################################################################
###
### Running command:
###
###   rm -rf flowType.buildbin-libdir && mkdir flowType.buildbin-libdir  && C:\cygwin\bin\curl.exe -O http://zin1/BBS/3.4/bioc/src/contrib/flowType_2.11.0.tar.gz && D:\biocbld\bbs-3.4-bioc\R\bin\R.exe CMD INSTALL --build --library=flowType.buildbin-libdir --merge-multiarch flowType_2.11.0.tar.gz && D:\biocbld\bbs-3.4-bioc\R\bin\R.exe CMD INSTALL flowType_2.11.0.zip  && rm flowType_2.11.0.tar.gz flowType_2.11.0.zip
###
##############################################################################
##############################################################################
  % Total    % Received % Xferd  Average Speed   Time    Time     Time  Current
                                 Dload  Upload   Total   Spent    Left  Speed
  0     0    0     0    0     0      0      0 --:--:-- --:--:-- --:--:--     0
100  845k  100  845k    0     0  34.3M      0 --:--:-- --:--:-- --:--:-- 41.3M
install for i386
* installing *source* package 'flowType' ...
** libs
C:/Rtools/mingw_32/bin/g++  -I"D:/biocbld/BBS-3˜1.4-B/R/include" -DNDEBUG    -I"D:/biocbld/bbs-3.4-bioc/R/library/Rcpp/include" -I"D:/biocbld/bbs-3.4-bioc/R/library/BH/include" -I"c:/local323/include"     -O2 -Wall  -mtune=core2 -c countsAndMeans.cpp -o countsAndMeans.o
C:/Rtools/mingw_32/bin/g++  -I"D:/biocbld/BBS-3˜1.4-B/R/include" -DNDEBUG    -I"D:/biocbld/bbs-3.4-bioc/R/library/Rcpp/include" -I"D:/biocbld/bbs-3.4-bioc/R/library/BH/include" -I"c:/local323/include"     -O2 -Wall  -mtune=core2 -c flowType.cpp -o flowType.o
C:/Rtools/mingw_32/bin/g++  -I"D:/biocbld/BBS-3˜1.4-B/R/include" -DNDEBUG    -I"D:/biocbld/bbs-3.4-bioc/R/library/Rcpp/include" -I"D:/biocbld/bbs-3.4-bioc/R/library/BH/include" -I"c:/local323/include"     -O2 -Wall  -mtune=core2 -c numberGenerator.cpp -o numberGenerator.o
C:/Rtools/mingw_32/bin/g++ -shared -s -static-libgcc -o flowType.dll tmp.def countsAndMeans.o flowType.o numberGenerator.o -Lc:/local323/lib/i386 -Lc:/local323/lib -LD:/biocbld/BBS-3˜1.4-B/R/bin/i386 -lR
installing to D:/biocbld/bbs-3.4-bioc/meat/flowType.buildbin-libdir/flowType/libs/i386
** R
** data
** inst
** preparing package for lazy loading
Creating a generic function for 'summary' from package 'base' in package 'flowType'
** help
*** installing help indices
** building package indices
** installing vignettes
** testing if installed package can be loaded
install for x64
* installing *source* package 'flowType' ...
** libs
C:/Rtools/mingw_64/bin/g++  -I"D:/biocbld/BBS-3˜1.4-B/R/include" -DNDEBUG    -I"D:/biocbld/bbs-3.4-bioc/R/library/Rcpp/include" -I"D:/biocbld/bbs-3.4-bioc/R/library/BH/include" -I"c:/local323/include"     -O2 -Wall  -mtune=core2 -c countsAndMeans.cpp -o countsAndMeans.o
C:/Rtools/mingw_64/bin/g++  -I"D:/biocbld/BBS-3˜1.4-B/R/include" -DNDEBUG    -I"D:/biocbld/bbs-3.4-bioc/R/library/Rcpp/include" -I"D:/biocbld/bbs-3.4-bioc/R/library/BH/include" -I"c:/local323/include"     -O2 -Wall  -mtune=core2 -c flowType.cpp -o flowType.o
C:/Rtools/mingw_64/bin/g++  -I"D:/biocbld/BBS-3˜1.4-B/R/include" -DNDEBUG    -I"D:/biocbld/bbs-3.4-bioc/R/library/Rcpp/include" -I"D:/biocbld/bbs-3.4-bioc/R/library/BH/include" -I"c:/local323/include"     -O2 -Wall  -mtune=core2 -c numberGenerator.cpp -o numberGenerator.o
C:/Rtools/mingw_64/bin/g++ -shared -s -static-libgcc -o flowType.dll tmp.def countsAndMeans.o flowType.o numberGenerator.o -Lc:/local323/lib/x64 -Lc:/local323/lib -LD:/biocbld/BBS-3˜1.4-B/R/bin/x64 -lR
installing to D:/biocbld/bbs-3.4-bioc/meat/flowType.buildbin-libdir/flowType/libs/x64
** testing if installed package can be loaded
* MD5 sums
packaged installation of 'flowType' as flowType_2.11.0.zip
* DONE (flowType)
* installing to library 'D:/biocbld/bbs-3.4-bioc/R/library'
package 'flowType' successfully unpacked and MD5 sums checked