Chicago 1.1.6 Mikhail Spivakov
 | Snapshot Date: 2016-09-19 19:15:14 -0700 (Mon, 19 Sep 2016) |  | URL: https://hedgehog.fhcrc.org/bioconductor/trunk/madman/Rpacks/Chicago |  | Last Changed Rev: 120998 / Revision: 121152 |  | Last Changed Date: 2016-09-16 06:25:24 -0700 (Fri, 16 Sep 2016) |  
  | zin1  | Linux (Ubuntu 16.04 LTS) / x86_64  |  OK  |  OK  |  OK  |  |   | 
| moscato1  | Windows Server 2008 R2 Standard (64-bit) / x64  |  OK  |  OK  |  OK  | [ OK ] |   | 
| morelia  | Mac OS X Mavericks (10.9.5) / x86_64  |  OK  |  OK  |  OK  |  OK  |   | 
##############################################################################
##############################################################################
###
### Running command:
###
###   cd Chicago.buildbin-libdir/Chicago && zip -r ../../Chicago_1.1.6.zip . & cd ../..
###
##############################################################################
##############################################################################
  adding: CITATION (188 bytes security) (deflated 58%)
  adding: data/ (208 bytes security) (stored 0%)
  adding: data/cdUnitTest.rda (188 bytes security) (deflated 0%)
  adding: DESCRIPTION (188 bytes security) (deflated 36%)
  adding: doc/ (208 bytes security) (stored 0%)
  adding: doc/Chicago.html (188 bytes security) (deflated 50%)
  adding: doc/Chicago.R (188 bytes security) (deflated 76%)
  adding: doc/Chicago.Rmd (188 bytes security) (deflated 63%)
  adding: doc/index.html (188 bytes security) (deflated 58%)
  adding: extdata/ (208 bytes security) (stored 0%)
  adding: extdata/unitTestChIP/ (208 bytes security) (stored 0%)
  adding: extdata/unitTestChIP/featuresmESC.txt (188 bytes security) (deflated 48%)
  adding: extdata/unitTestChIP/unitTestCTCF_ENCFF001ZQY.broadPeak.bed (188 bytes security) (deflated 65%)
  adding: extdata/unitTestChIP/unitTestH3K27me3_ENCFF001ZJO.broadPeak.bed (188 bytes security) (deflated 57%)
  adding: extdata/unitTestChIP/unitTestwgEncodeLicrHistoneEse14H3k27acME0129olaStdPk.broadPeak (188 bytes security) (deflated 70%)
  adding: extdata/unitTestChIP/unitTestwgEncodeSydhHistEse14H3k04me3StdPk.narrowPeak (188 bytes security) (deflated 56%)
  adding: extdata/unitTestChIP/unitTestwgEncodeSydhHistEse14H3k09me3StdPk.narrowPeak (188 bytes security) (deflated 54%)
  adding: extdata/unitTestData/ (208 bytes security) (stored 0%)
  adding: extdata/unitTestData/unitTest_mESC_rep1.chinput (188 bytes security) (deflated 70%)
  adding: extdata/unitTestData/unitTest_mESC_rep2.chinput (188 bytes security) (deflated 69%)
  adding: extdata/unitTestDesign/ (208 bytes security) (stored 0%)
  adding: extdata/unitTestDesign/unitTest.baitmap (188 bytes security) (deflated 57%)
  adding: extdata/unitTestDesign/unitTest.nbpb (188 bytes security) (deflated 95%)
  adding: extdata/unitTestDesign/unitTest.npb (188 bytes security) (deflated 79%)
  adding: extdata/unitTestDesign/unitTest.poe (188 bytes security) (deflated 71%)
  adding: extdata/unitTestDesign/unitTest.rmap (188 bytes security) (deflated 67%)
  adding: extdata/weights/ (208 bytes security) (stored 0%)
  adding: extdata/weights/GM12878-2reps.settings (188 bytes security) (deflated 21%)
  adding: extdata/weights/humanMacrophage-7reps.settings (188 bytes security) (deflated 17%)
  adding: extdata/weights/mESC-2reps.settings (188 bytes security) (deflated 21%)
  adding: help/ (208 bytes security) (stored 0%)
  adding: help/aliases.rds (188 bytes security) (stored 0%)
  adding: help/AnIndex (188 bytes security) (deflated 69%)
  adding: help/Chicago.rdb (188 bytes security) (deflated 1%)
  adding: help/Chicago.rdx (188 bytes security) (stored 0%)
  adding: help/paths.rds (188 bytes security) (stored 0%)
  adding: html/ (208 bytes security) (stored 0%)
  adding: html/00Index.html (188 bytes security) (deflated 78%)
  adding: html/R.css (188 bytes security) (deflated 75%)
  adding: INDEX (188 bytes security) (deflated 61%)
  adding: MD5 (188 bytes security) (deflated 49%)
  adding: Meta/ (208 bytes security) (stored 0%)
  adding: Meta/data.rds (188 bytes security) (stored 0%)
  adding: Meta/hsearch.rds (188 bytes security) (stored 0%)
  adding: Meta/links.rds (188 bytes security) (stored 0%)
  adding: Meta/nsInfo.rds (188 bytes security) (stored 0%)
  adding: Meta/package.rds (188 bytes security) (stored 0%)
  adding: Meta/Rd.rds (188 bytes security) (stored 0%)
  adding: Meta/vignette.rds (188 bytes security) (stored 0%)
  adding: NAMESPACE (188 bytes security) (deflated 49%)
  adding: NEWS (188 bytes security) (deflated 46%)
  adding: R/ (208 bytes security) (stored 0%)
  adding: R/Chicago (188 bytes security) (deflated 41%)
  adding: R/Chicago.rdb (188 bytes security) (deflated 17%)
  adding: R/Chicago.rdx (188 bytes security) (stored 0%)