| ChemmineOB 1.11.4 Thomas Girke
 
 | Snapshot Date: 2016-09-19 19:15:14 -0700 (Mon, 19 Sep 2016) |  | URL: https://hedgehog.fhcrc.org/bioconductor/trunk/madman/Rpacks/ChemmineOB |  | Last Changed Rev: 119284 / Revision: 121152 |  | Last Changed Date: 2016-07-11 14:28:49 -0700 (Mon, 11 Jul 2016) | 
 | zin1 | Linux (Ubuntu 16.04 LTS) / x86_64 | OK | [ OK ] | WARNINGS |  |  | 
| moscato1 | Windows Server 2008 R2 Standard (64-bit) / x64 | ERROR | ERROR | skipped | skipped |  | 
| morelia | Mac OS X Mavericks (10.9.5) / x86_64 | OK | OK | WARNINGS | OK |  | 
##############################################################################
##############################################################################
###
### Running command:
###
###   /home/biocbuild/bbs-3.4-bioc/R/bin/R CMD build --keep-empty-dirs --no-resave-data ChemmineOB
###
##############################################################################
##############################################################################
* checking for file ‘ChemmineOB/DESCRIPTION’ ... OK
* preparing ‘ChemmineOB’:
* checking DESCRIPTION meta-information ... OK
* cleaning src
* running ‘cleanup’
* installing the package to build vignettes
* creating vignettes ... OK
* cleaning src
* running ‘cleanup’
* checking for LF line-endings in source and make files
* checking for empty or unneeded directories
* building ‘ChemmineOB_1.11.4.tar.gz’