##############################################################################
##############################################################################
###
### Running command:
###
### cd gcspikelite.buildbin-libdir/gcspikelite && zip -r ../../gcspikelite_1.9.0.zip . & cd ../..
###
##############################################################################
##############################################################################
adding: data/ (256 bytes security) (stored 0%)
adding: data/0709_468.CDF (188 bytes security) (deflated 65%)
adding: data/0709_468.ELU (188 bytes security) (deflated 67%)
adding: data/0709_470.CDF (188 bytes security) (deflated 65%)
adding: data/0709_470.ELU (188 bytes security) (deflated 67%)
adding: data/0709_471.CDF (188 bytes security) (deflated 65%)
adding: data/0709_471.ELU (188 bytes security) (deflated 67%)
adding: data/0709_474.CDF (188 bytes security) (deflated 65%)
adding: data/0709_474.ELU (188 bytes security) (deflated 67%)
adding: data/0709_475.CDF (188 bytes security) (deflated 65%)
adding: data/0709_475.ELU (188 bytes security) (deflated 67%)
adding: data/0709_479.CDF (188 bytes security) (deflated 65%)
adding: data/0709_479.ELU (188 bytes security) (deflated 67%)
adding: data/0709_485.CDF (188 bytes security) (deflated 65%)
adding: data/0709_485.ELU (188 bytes security) (deflated 67%)
adding: data/0709_493.CDF (188 bytes security) (deflated 65%)
adding: data/0709_493.ELU (188 bytes security) (deflated 67%)
adding: data/0709_496.CDF (188 bytes security) (deflated 65%)
adding: data/0709_496.ELU (188 bytes security) (deflated 67%)
adding: data/chromaTOFex.tof (188 bytes security) (deflated 74%)
adding: data/datalist (188 bytes security) (stored 0%)
adding: data/targets.txt (188 bytes security) (deflated 60%)
adding: DESCRIPTION (188 bytes security) (deflated 40%)
adding: help/ (256 bytes security) (stored 0%)
adding: help/aliases.rds (188 bytes security) (stored 0%)
adding: help/AnIndex (188 bytes security) (deflated 18%)
adding: help/gcspikelite.rdb (188 bytes security) (stored 0%)
adding: help/gcspikelite.rdx (188 bytes security) (stored 0%)
adding: help/paths.rds (188 bytes security) (stored 0%)
adding: html/ (256 bytes security) (stored 0%)
adding: html/00Index.html (188 bytes security) (deflated 50%)
adding: html/R.css (188 bytes security) (deflated 75%)
adding: INDEX (188 bytes security) (deflated 30%)
adding: MD5 (188 bytes security) (deflated 47%)
adding: Meta/ (256 bytes security) (stored 0%)
adding: Meta/data.rds (188 bytes security) (stored 0%)
adding: Meta/hsearch.rds (188 bytes security) (stored 0%)
adding: Meta/links.rds (188 bytes security) (stored 0%)
adding: Meta/nsInfo.rds (188 bytes security) (stored 0%)
adding: Meta/package.rds (188 bytes security) (stored 0%)
adding: Meta/Rd.rds (188 bytes security) (stored 0%)
adding: NAMESPACE (188 bytes security) (stored 0%)
adding: R/ (256 bytes security) (stored 0%)
adding: R/gcspikelite (188 bytes security) (deflated 41%)
adding: R/gcspikelite.rdb (188 bytes security) (deflated 17%)
adding: R/gcspikelite.rdx (188 bytes security) (stored 0%)