##############################################################################
##############################################################################
###
### Running command:
###
### chmod a+r RIPSeekerData -R && E:\biocbld\bbs-3.3-bioc\R\bin\R.exe CMD build --keep-empty-dirs --no-resave-data RIPSeekerData
###
##############################################################################
##############################################################################
* checking for file 'RIPSeekerData/DESCRIPTION' ... OK
* preparing 'RIPSeekerData':
* checking DESCRIPTION meta-information ... OK
* installing the package to build vignettes
* creating vignettes ... OK
* checking for LF line-endings in source and make files
* checking for empty or unneeded directories
* building 'RIPSeekerData_1.8.0.tar.gz'