Back to the "Multiple platform build/check report" A  B  C  D  E  F  G  H  I  J  K  L  M  N  O  P  Q  R  S  T  U  V  W  X  Y [Z]

BioC 3.3: INSTALL report for zlibbioc on morelia

This page was generated on 2016-04-21 13:22:36 -0700 (Thu, 21 Apr 2016).

Package 1210/1210HostnameOS / ArchINSTALLBUILDCHECKBUILD BIN
zlibbioc 1.17.1
Bioconductor Package Maintainer
Snapshot Date: 2016-04-20 17:20:35 -0700 (Wed, 20 Apr 2016)
URL: https://hedgehog.fhcrc.org/bioconductor/trunk/madman/Rpacks/zlibbioc
Last Changed Rev: 114948 / Revision: 116626
Last Changed Date: 2016-03-18 00:58:14 -0700 (Fri, 18 Mar 2016)
zin2 Linux (Ubuntu 14.04.2 LTS) / x86_64  OK  OK  OK UNNEEDED, same version exists in internal repository
moscato2 Windows Server 2008 R2 Enterprise SP1 (64-bit) / x64  OK  OK  OK  OK UNNEEDED, same version exists in internal repository
morelia Mac OS X Mavericks (10.9.5) / x86_64 [ OK ] OK  OK  OK UNNEEDED, same version exists in internal repository

Summary

Package: zlibbioc
Version: 1.17.1
Command: /Library/Frameworks/R.framework/Versions/Current/Resources/bin/R CMD INSTALL zlibbioc
StartedAt: 2016-04-20 18:16:45 -0700 (Wed, 20 Apr 2016)
EndedAt: 2016-04-20 18:16:47 -0700 (Wed, 20 Apr 2016)
EllapsedTime: 2.0 seconds
RetCode: 0
Status:  OK 

Command output

##############################################################################
##############################################################################
###
### Running command:
###
###   /Library/Frameworks/R.framework/Versions/Current/Resources/bin/R CMD INSTALL zlibbioc
###
##############################################################################
##############################################################################


* installing to library ‘/Library/Frameworks/R.framework/Versions/3.3/Resources/library’
* installing *source* package ‘zlibbioc’ ...
configure: creating ./config.status
config.status: creating src/Makevars
** libs
mkdir -p "/Library/Frameworks/R.framework/Versions/3.3/Resources/library/zlibbioc/include"
clang -I/Library/Frameworks/R.framework/Resources/include -DNDEBUG  -I/usr/local/include -I/usr/local/include/freetype2 -I/opt/X11/include    -fPIC  -Wall -mtune=core2 -g -O2  -c R_init_zlibbioc.c -o R_init_zlibbioc.o
clang -dynamiclib -Wl,-headerpad_max_install_names -undefined dynamic_lookup -single_module -multiply_defined suppress -L/Library/Frameworks/R.framework/Resources/lib -L/usr/local/lib -o zlibbioc.so R_init_zlibbioc.o -F/Library/Frameworks/R.framework/.. -framework R -Wl,-framework -Wl,CoreFoundation
installing to /Library/Frameworks/R.framework/Versions/3.3/Resources/library/zlibbioc/libs
** R
** preparing package for lazy loading
** help
*** installing help indices
** building package indices
** installing vignettes
** testing if installed package can be loaded
* DONE (zlibbioc)